BEGIN:VCALENDAR
VERSION:2.0
PRODID:-//GS Sistemi - ECPv5.13.0//NONSGML v1.0//EN
CALSCALE:GREGORIAN
METHOD:PUBLISH
X-WR-CALNAME:GS Sistemi
X-ORIGINAL-URL:https://www.gssistemi.it
X-WR-CALDESC:Events for GS Sistemi
REFRESH-INTERVAL;VALUE=DURATION:PT1H
X-Robots-Tag:noindex
X-PUBLISHED-TTL:PT1H
BEGIN:VTIMEZONE
TZID:Europe/Rome
BEGIN:DAYLIGHT
TZOFFSETFROM:+0100
TZOFFSETTO:+0200
TZNAME:CEST
DTSTART:20250330T010000
END:DAYLIGHT
BEGIN:STANDARD
TZOFFSETFROM:+0200
TZOFFSETTO:+0100
TZNAME:CET
DTSTART:20251026T010000
END:STANDARD
END:VTIMEZONE
BEGIN:VEVENT
DTSTART;TZID=Europe/Rome:20250417T113000
DTEND;TZID=Europe/Rome:20250417T123000
DTSTAMP:20260420T061359
CREATED:20250403T140045Z
LAST-MODIFIED:20250418T122947Z
UID:6104-1744889400-1744893000@www.gssistemi.it
SUMMARY:Webinar "FORMAZIONE FINANZIATA: un'opportunità per valorizzare la professione del Consulente a costo zero"
DESCRIPTION:[vc_row][vc_column][vc_column_text]In questo webinar\, organizzato in collaborazione tra GS Sistemi e l’ente formativo EDOTTO\, dopo una breve panoramica sugli strumenti PROFIS per la qualificazione dello Studio\, presenteremo i vantaggi della formazione finanziata. \nLa Formazione finanziata è un’opportunità per gli Studi professionali di accedere alla formazione a costo zero sia per il proprio Studio che per i propri clienti.\nVedremo insieme come aderire e accedere ai fondi a disposizione. \n>>> GUARDA LA LOCANDINA>>> \nRELATORI\nAnnangela Ficarella – Responsabile reparto Studi e Coordinatrice progetti in GS Sistemi\nNicola Chiocci –  Product Manager di EDOTTO[/vc_column_text][/vc_column][/vc_row][vc_row][vc_column][vc_btn title=”Guarda la registrazione” color=”danger” size=”lg” align=”center” link=”url:https%3A%2F%2Fyoutu.be%2FnWehpxF6Hys|target:_blank”][/vc_column][/vc_row]
URL:https://www.gssistemi.it/event/webinar-formazione-finanziata-unopportunita-per-valorizzare-la-professione-del-consulente-a-costo-zero/
LOCATION:Webinar Online
CATEGORIES:PROFIS,STUDI PROFESSIONALI
ATTACH;FMTTYPE=image/png:https://www.gssistemi.it/wp-content/uploads/2025/04/Webinar-Formazione-Finanziata.png
END:VEVENT
END:VCALENDAR