BEGIN:VCALENDAR
VERSION:2.0
PRODID:-//GS Sistemi - ECPv5.13.0//NONSGML v1.0//EN
CALSCALE:GREGORIAN
METHOD:PUBLISH
X-WR-CALNAME:GS Sistemi
X-ORIGINAL-URL:https://www.gssistemi.it
X-WR-CALDESC:Events for GS Sistemi
REFRESH-INTERVAL;VALUE=DURATION:PT1H
X-Robots-Tag:noindex
X-PUBLISHED-TTL:PT1H
BEGIN:VTIMEZONE
TZID:Europe/Rome
BEGIN:DAYLIGHT
TZOFFSETFROM:+0100
TZOFFSETTO:+0200
TZNAME:CEST
DTSTART:20250330T010000
END:DAYLIGHT
BEGIN:STANDARD
TZOFFSETFROM:+0200
TZOFFSETTO:+0100
TZNAME:CET
DTSTART:20251026T010000
END:STANDARD
END:VTIMEZONE
BEGIN:VEVENT
DTSTART;TZID=Europe/Rome:20250305T103000
DTEND;TZID=Europe/Rome:20250305T123000
DTSTAMP:20260420T075042
CREATED:20250205T112933Z
LAST-MODIFIED:20250205T113651Z
UID:6032-1741170600-1741177800@www.gssistemi.it
SUMMARY:Webinar "La riforma del lavoro sportivo - la gestione pratica dei rapporti di lavoro"
DESCRIPTION:[vc_row][vc_column][vc_column_text]Webinar gratuito accreditato dall’Ordine dei CDL di Livorno e organizzato in collaborazione con GS Sistemi e Sistemi SpA. \n>>> APPROFONDISCI I TEMI TRATTATI E ISCRIVITI >>> \nL’evento è gratuito e ha la durata di 2 ore. La frequentazione consente ai partecipanti di maturare 2 CFP. \nRELATORI\n \n\nMassimiliano Matteucci – Professore Universitario a contratto in “Diritto privato dello sport” e “Innovazione digitale e relazioni industriali”\, Consulente del Lavoro\, Membro del Centro studi del CPO di Roma\, Autore di libri e pubblicazioni\, relatore in convegni e seminari. Esperto di diritto sindacale e relazioni industriali. Coordinatore Master Lavoro\, Co-autore del testo “Elementi di diritto del lavoro” edito Maggioli – Collana Universitaria.\nMonica Camera – Sistemi S.p.A.\n\n[/vc_column_text][/vc_column][/vc_row][vc_row][vc_column][vc_btn title=”Iscriviti all’evento” color=”danger” size=”lg” align=”center” link=”url:https%3A%2F%2Fattendee.gotowebinar.com%2Fregister%2F6103544521908949595|target:_blank”][/vc_column][/vc_row]
URL:https://www.gssistemi.it/event/webinar-la-riforma-del-lavoro-sportivo-la-gestione-pratica-dei-rapporti-di-lavoro/
LOCATION:Webinar Online
CATEGORIES:PROFIS,STUDI PROFESSIONALI
ATTACH;FMTTYPE=image/png:https://www.gssistemi.it/wp-content/uploads/2025/02/Riforma-del-lavoro-CDL-Livorno.png
END:VEVENT
END:VCALENDAR