BEGIN:VCALENDAR
VERSION:2.0
PRODID:-//GS Sistemi - ECPv5.13.0//NONSGML v1.0//EN
CALSCALE:GREGORIAN
METHOD:PUBLISH
X-WR-CALNAME:GS Sistemi
X-ORIGINAL-URL:https://www.gssistemi.it
X-WR-CALDESC:Events for GS Sistemi
REFRESH-INTERVAL;VALUE=DURATION:PT1H
X-Robots-Tag:noindex
X-PUBLISHED-TTL:PT1H
BEGIN:VTIMEZONE
TZID:Europe/Rome
BEGIN:DAYLIGHT
TZOFFSETFROM:+0100
TZOFFSETTO:+0200
TZNAME:CEST
DTSTART:20250330T010000
END:DAYLIGHT
BEGIN:STANDARD
TZOFFSETFROM:+0200
TZOFFSETTO:+0100
TZNAME:CET
DTSTART:20251026T010000
END:STANDARD
END:VTIMEZONE
BEGIN:VEVENT
DTSTART;TZID=Europe/Rome:20250122T090000
DTEND;TZID=Europe/Rome:20250122T183000
DTSTAMP:20260420T111934
CREATED:20250124T091512Z
LAST-MODIFIED:20250124T091551Z
UID:6012-1737536400-1737570600@www.gssistemi.it
SUMMARY:Master Eutekne - 8° giornata
DESCRIPTION:[vc_row][vc_column][vc_column_text]Sistemi S.p.A. è partner e sponsor degli eventi formativi accreditati Eutekne e rivolti ai commercialisti. \nNoi di GS Sistemi partecipiamo all’ottavo incontro del Master Eutekne che si terrà a Pisa e con focus su: “Legge di Bilancio 2025 e impatto su imprese e persone fisiche”.[/vc_column_text][/vc_column][/vc_row]
URL:https://www.gssistemi.it/event/master-eutekne-8-giornata/
CATEGORIES:PROFIS,STUDI PROFESSIONALI
ATTACH;FMTTYPE=image/jpeg:https://www.gssistemi.it/wp-content/uploads/2025/01/Master-eutekne.jpg
ORGANIZER;CN="GS%20Sistemi":MAILTO:marketing@sistemigs.com
END:VEVENT
END:VCALENDAR