BEGIN:VCALENDAR
VERSION:2.0
PRODID:-//GS Sistemi - ECPv5.13.0//NONSGML v1.0//EN
CALSCALE:GREGORIAN
METHOD:PUBLISH
X-WR-CALNAME:GS Sistemi
X-ORIGINAL-URL:https://www.gssistemi.it
X-WR-CALDESC:Events for GS Sistemi
REFRESH-INTERVAL;VALUE=DURATION:PT1H
X-Robots-Tag:noindex
X-PUBLISHED-TTL:PT1H
BEGIN:VTIMEZONE
TZID:Europe/Rome
BEGIN:DAYLIGHT
TZOFFSETFROM:+0100
TZOFFSETTO:+0200
TZNAME:CEST
DTSTART:20240331T010000
END:DAYLIGHT
BEGIN:STANDARD
TZOFFSETFROM:+0200
TZOFFSETTO:+0100
TZNAME:CET
DTSTART:20241027T010000
END:STANDARD
END:VTIMEZONE
BEGIN:VEVENT
DTSTART;TZID=Europe/Rome:20241024T103000
DTEND;TZID=Europe/Rome:20241024T113000
DTSTAMP:20260420T160257
CREATED:20241011T074818Z
LAST-MODIFIED:20241028T112727Z
UID:5805-1729765800-1729769400@www.gssistemi.it
SUMMARY:JOB: le utilità a supporto del consulente
DESCRIPTION:[vc_row][vc_column][vc_column_text]In questo webinar\, insieme alla nostra Consulente Gestionale HR Simona Bellanova\, esploreremo insieme le funzionalità meno conosciute di JOB\, spesso poco utilizzate\, ma che possono rivelarsi strumenti preziosi per supportare e ottimizzare il lavoro quotidiano del consulente. \nUn esempio? \n\nLa gestione dello scadenzario​\nProspetto TFR e Indennità​\nProspetto riepilogativo dipendente​\nLa gestione dei sindacati​ e degli acconti\n…\n\n[/vc_column_text][vc_row_inner content_placement=”middle” css=”.vc_custom_1708086464219{padding-top: 20px !important;}”][vc_column_inner width=”1/2″][vc_btn title=”Scarica le slide” style=”custom” custom_background=”#c20e1a” custom_text=”#ffffff” align=”center” link=”url:https%3A%2F%2Fwww.gssistemi.it%2Fwp-content%2Fuploads%2F2024%2F10%2F241024-Le-utilita-di-Job.pdf|target:_blank”][/vc_column_inner][vc_column_inner width=”1/2″][vc_btn title=”Guarda il video” style=”custom” custom_background=”#c20e1a” custom_text=”#ffffff” align=”center” link=”url:https%3A%2F%2Fyoutu.be%2FGY915f2nwfM|target:_blank”][/vc_column_inner][/vc_row_inner][/vc_column][/vc_row]
URL:https://www.gssistemi.it/event/job-le-utilita-a-supporto-del-consulente/
LOCATION:Webinar Online
CATEGORIES:JOB,STUDI PROFESSIONALI
ATTACH;FMTTYPE=image/png:https://www.gssistemi.it/wp-content/uploads/2024/10/le-utilita-JOB.png
ORGANIZER;CN="GS%20Sistemi":MAILTO:marketing@sistemigs.com
END:VEVENT
END:VCALENDAR