BEGIN:VCALENDAR
VERSION:2.0
PRODID:-//GS Sistemi - ECPv5.13.0//NONSGML v1.0//EN
CALSCALE:GREGORIAN
METHOD:PUBLISH
X-WR-CALNAME:GS Sistemi
X-ORIGINAL-URL:https://www.gssistemi.it
X-WR-CALDESC:Events for GS Sistemi
REFRESH-INTERVAL;VALUE=DURATION:PT1H
X-Robots-Tag:noindex
X-PUBLISHED-TTL:PT1H
BEGIN:VTIMEZONE
TZID:Europe/Rome
BEGIN:DAYLIGHT
TZOFFSETFROM:+0100
TZOFFSETTO:+0200
TZNAME:CEST
DTSTART:20240331T010000
END:DAYLIGHT
BEGIN:STANDARD
TZOFFSETFROM:+0200
TZOFFSETTO:+0100
TZNAME:CET
DTSTART:20241027T010000
END:STANDARD
END:VTIMEZONE
BEGIN:VEVENT
DTSTART;TZID=Europe/Rome:20240605T100000
DTEND;TZID=Europe/Rome:20240605T120000
DTSTAMP:20260420T220940
CREATED:20240507T090009Z
LAST-MODIFIED:20240520T091853Z
UID:5513-1717581600-1717588800@www.gssistemi.it
SUMMARY:Webinar "SISTEMI AI per la professione aumentata del Commercialista"
DESCRIPTION:[vc_row][vc_column][vc_column_text]Webinar gratuito accreditato dall’ODCEC di Siena e organizzato in collaborazione con GS Sistemi e Sistemi SpA. \n>>> APPROFONDISCI I TEMI TRATTATI E ISCRIVITI >>> \nL’evento è gratuito e ha la durata di 2 ore. La frequentazione consente ai partecipanti di maturare 1 CFP a fronte di ogni ora di partecipazione\, fino a un massimo di 2 CFP. \nRELATORI\nVittorio Di Tomaso – CEO di Maize S.r.l. – a Jakala Company. Laureato in Filosofia\, imprenditore di prima generazione\, si occupa di Intelligenza Artificiale dalla fine degli anni’90 e ha contribuito alla nascita di diverse aziende (CELI – Language Technology\, Blogmeter\, Synapta e Focoos AI\, spin off deep tech del Politecnico di Torino). È stato docente presso l’Università del Piemonte Orientale\, la Libera Università di Bolzano e l’Università di Torino. È presidente del gruppo Digital Technologies dell’Unione Industriali di Torino\, associata a Confindustria.\nFabio Matta – Responsabile sviluppo prodotti AI e BI. Sistemi S.p.A.\nOlindo Giamberardini – Responsabile marketing di prodotto. Sistemi S.p.A.[/vc_column_text][/vc_column][/vc_row][vc_row][vc_column][vc_btn title=”Iscriviti all’evento” color=”danger” size=”lg” align=”center” link=”url:https%3A%2F%2Fregister.gotowebinar.com%2Fregister%2F3804193022715969629|target:_blank”][/vc_column][/vc_row]
URL:https://www.gssistemi.it/event/webinar-sistemi-ai-per-la-professione-aumentata-del-commercialista/
LOCATION:Webinar Online
CATEGORIES:PROFIS,STUDI PROFESSIONALI
ATTACH;FMTTYPE=image/png:https://www.gssistemi.it/wp-content/uploads/2024/05/Sistemi-AI-per-la-professione-commercialista-Webinar-GS-Sistemi-ODCEC-SIENA.png
END:VEVENT
END:VCALENDAR