BEGIN:VCALENDAR
VERSION:2.0
PRODID:-//GS Sistemi - ECPv5.13.0//NONSGML v1.0//EN
CALSCALE:GREGORIAN
METHOD:PUBLISH
X-WR-CALNAME:GS Sistemi
X-ORIGINAL-URL:https://www.gssistemi.it
X-WR-CALDESC:Events for GS Sistemi
REFRESH-INTERVAL;VALUE=DURATION:PT1H
X-Robots-Tag:noindex
X-PUBLISHED-TTL:PT1H
BEGIN:VTIMEZONE
TZID:Europe/Rome
BEGIN:DAYLIGHT
TZOFFSETFROM:+0100
TZOFFSETTO:+0200
TZNAME:CEST
DTSTART:20230326T010000
END:DAYLIGHT
BEGIN:STANDARD
TZOFFSETFROM:+0200
TZOFFSETTO:+0100
TZNAME:CET
DTSTART:20231029T010000
END:STANDARD
END:VTIMEZONE
BEGIN:VEVENT
DTSTART;TZID=Europe/Rome:20230621T100000
DTEND;TZID=Europe/Rome:20230621T113000
DTSTAMP:20260421T171154
CREATED:20230612T132029Z
LAST-MODIFIED:20230623T082628Z
UID:4826-1687341600-1687347000@www.gssistemi.it
SUMMARY:La gestione delle HR e il monitoraggio dei relativi costi con le soluzioni Sistemi
DESCRIPTION:[vc_row][vc_column][vc_column_text css=”.vc_custom_1687507016035{padding-bottom: 10px !important;}”]Paghe\, costi del personale\, amministrazione delle risorse\, presenze\, formazione\, trasferte\, nota spese\, ruoli e competenze…\nVedremo come gestire e organizzare al meglio la risorsa aziendale più importante: quella umana. \nAnalizzeremo inoltre come monitorare i costi del personale\, grazie anche all’integrazione di JOB con la Power BI ed Excel.[/vc_column_text][vc_row_inner][vc_column_inner width=”1/2″][vc_btn title=”Scarica le slide” style=”outline” color=”danger” size=”lg” align=”center” link=”url:https%3A%2F%2Fwww.gssistemi.it%2Fwp-content%2Fuploads%2F2023%2F06%2F230621-Slide-Webinar-Gestione-HR.pdf|target:_blank”][/vc_column_inner][vc_column_inner width=”1/2″][vc_btn title=”Guarda la registrazione” style=”outline” color=”danger” size=”lg” align=”center” link=”url:https%3A%2F%2Fyoutu.be%2FTpC2zLNqCNk|target:_blank”][/vc_column_inner][/vc_row_inner][/vc_column][/vc_row]
URL:https://www.gssistemi.it/event/la-gestione-delle-hr-e-il-monitoraggio-dei-relativi-costi-con-le-soluzioni-sistemi/
LOCATION:Webinar Online
CATEGORIES:JOB,STUDI PROFESSIONALI
ATTACH;FMTTYPE=image/png:https://www.gssistemi.it/wp-content/uploads/2023/06/le-gestione-delle-risorse-umane-JOB.png
ORGANIZER;CN="GS%20Sistemi":MAILTO:marketing@sistemigs.com
END:VEVENT
END:VCALENDAR