BEGIN:VCALENDAR
VERSION:2.0
PRODID:-//GS Sistemi - ECPv5.13.0//NONSGML v1.0//EN
CALSCALE:GREGORIAN
METHOD:PUBLISH
X-WR-CALNAME:GS Sistemi
X-ORIGINAL-URL:https://www.gssistemi.it
X-WR-CALDESC:Events for GS Sistemi
REFRESH-INTERVAL;VALUE=DURATION:PT1H
X-Robots-Tag:noindex
X-PUBLISHED-TTL:PT1H
BEGIN:VTIMEZONE
TZID:Europe/Rome
BEGIN:DAYLIGHT
TZOFFSETFROM:+0100
TZOFFSETTO:+0200
TZNAME:CEST
DTSTART:20230326T010000
END:DAYLIGHT
BEGIN:STANDARD
TZOFFSETFROM:+0200
TZOFFSETTO:+0100
TZNAME:CET
DTSTART:20231029T010000
END:STANDARD
END:VTIMEZONE
BEGIN:VEVENT
DTSTART;TZID=Europe/Rome:20230321T100000
DTEND;TZID=Europe/Rome:20230321T110000
DTSTAMP:20260421T223905
CREATED:20230313T110904Z
LAST-MODIFIED:20230324T103009Z
UID:4539-1679392800-1679396400@www.gssistemi.it
SUMMARY:Ottimizzare I Costi Del Personale Con JOB
DESCRIPTION:[vc_row][vc_column][vc_column_text]Monitorare i costi del personale è fondamentale per tenere sotto controllo i costi e l’andamento aziendale.  In questo webinar vedremo come\, grazie all’integrazione di JOB con la Power BI ed Excel\, sia possibile formulare analisi e report in grado di aiutarci a tenere sotto controllo i costi del personale\, il loro andamento nel tempo e le variazioni rispetto a quanto preventivato.[/vc_column_text][vc_row_inner][vc_column_inner width=”1/2″][vc_btn title=”Scarica le slide” style=”outline” color=”danger” align=”center” link=”url:https%3A%2F%2Fwww.gssistemi.it%2Fwp-content%2Fuploads%2F2023%2F03%2FWEBINAR-JOB-Ottimizzare-i-costi-del-personale.pdf|target:_blank”][/vc_column_inner][vc_column_inner width=”1/2″][vc_btn title=”Rivedi la registrazione” style=”outline” color=”danger” align=”center” link=”url:https%3A%2F%2Fyoutu.be%2F68S5_pt38Jo|target:_blank”][/vc_column_inner][/vc_row_inner][/vc_column][/vc_row]
URL:https://www.gssistemi.it/event/ottimizzare-i-costi-del-personale-con-job/
LOCATION:Webinar Online
CATEGORIES:JOB,STUDI PROFESSIONALI
ATTACH;FMTTYPE=image/png:https://www.gssistemi.it/wp-content/uploads/2023/03/Ottimizzare-i-costi-del-personale-con-JOB.png
ORGANIZER;CN="GS%20Sistemi":MAILTO:marketing@sistemigs.com
END:VEVENT
END:VCALENDAR