BEGIN:VCALENDAR
VERSION:2.0
PRODID:-//GS Sistemi - ECPv5.13.0//NONSGML v1.0//EN
CALSCALE:GREGORIAN
METHOD:PUBLISH
X-WR-CALNAME:GS Sistemi
X-ORIGINAL-URL:https://www.gssistemi.it
X-WR-CALDESC:Events for GS Sistemi
REFRESH-INTERVAL;VALUE=DURATION:PT1H
X-Robots-Tag:noindex
X-PUBLISHED-TTL:PT1H
BEGIN:VTIMEZONE
TZID:Europe/Rome
BEGIN:DAYLIGHT
TZOFFSETFROM:+0100
TZOFFSETTO:+0200
TZNAME:CEST
DTSTART:20220327T010000
END:DAYLIGHT
BEGIN:STANDARD
TZOFFSETFROM:+0200
TZOFFSETTO:+0100
TZNAME:CET
DTSTART:20221030T010000
END:STANDARD
END:VTIMEZONE
BEGIN:VEVENT
DTSTART;VALUE=DATE:20220621
DTEND;VALUE=DATE:20220622
DTSTAMP:20260424T142034
CREATED:20220630T134805Z
LAST-MODIFIED:20221213T121811Z
UID:3060-1655769600-1655855999@www.gssistemi.it
SUMMARY:Reverse nazionali ed esteri e l'abolizione dell' "esterometro"
DESCRIPTION:[vc_row][vc_column][vc_column_text] \nDurante l’incontro è stata presentata una panoramica delle novità e dei nuovi adempimenti previsti per i reverse charge interni ed esteri\, alla luce dei nuovi adempimenti in vigore dal 1° luglio 2022 e dell’abolizione dell’esterometro.\nCon l’ausilio di PROFIS\, sono poi stati illustrati esempi di gestione delle doppie annotazioni e del relativo invio del documento integrativo. \nEvento in collaborazione con l’ODCEC di Siena. \n[/vc_column_text][vc_row_inner][vc_column_inner width=”1/2″][vc_btn title=”Rivedi la registrazione” style=”outline” color=”danger” align=”center” link=”url:https%3A%2F%2Fwww.youtube.com%2Fwatch%3Fv%3D8qRIyQ6mydE|target:_blank”][/vc_column_inner][vc_column_inner width=”1/2″][vc_btn title=”Scarica le slide” style=”outline” color=”danger” align=”center” link=”url:https%3A%2F%2Fwww.gssistemi.it%2Fwp-content%2Fuploads%2F2022%2F07%2FSlide_REVERSE-CHARGE.pdf|target:_blank”][/vc_column_inner][/vc_row_inner][/vc_column][/vc_row]
URL:https://www.gssistemi.it/event/reverse-nazionali-ed-esteri-e-labolizione-dell-esterometro/
LOCATION:Webinar Online
CATEGORIES:PROFIS,STUDI PROFESSIONALI
ATTACH;FMTTYPE=image/png:https://www.gssistemi.it/wp-content/uploads/2022/06/reverse-ed-esterometro.png
ORGANIZER;CN="GS%20Sistemi":MAILTO:marketing@sistemigs.com
END:VEVENT
END:VCALENDAR