BEGIN:VCALENDAR
VERSION:2.0
PRODID:-//GS Sistemi - ECPv5.13.0//NONSGML v1.0//EN
CALSCALE:GREGORIAN
METHOD:PUBLISH
X-WR-CALNAME:GS Sistemi
X-ORIGINAL-URL:https://www.gssistemi.it
X-WR-CALDESC:Events for GS Sistemi
REFRESH-INTERVAL;VALUE=DURATION:PT1H
X-Robots-Tag:noindex
X-PUBLISHED-TTL:PT1H
BEGIN:VTIMEZONE
TZID:Europe/Rome
BEGIN:DAYLIGHT
TZOFFSETFROM:+0100
TZOFFSETTO:+0200
TZNAME:CEST
DTSTART:20260329T010000
END:DAYLIGHT
BEGIN:STANDARD
TZOFFSETFROM:+0200
TZOFFSETTO:+0100
TZNAME:CET
DTSTART:20261025T010000
END:STANDARD
END:VTIMEZONE
BEGIN:VEVENT
DTSTART;TZID=Europe/Rome:20260402T110000
DTEND;TZID=Europe/Rome:20260402T120000
DTSTAMP:20260420T062026
CREATED:20260319T154714Z
LAST-MODIFIED:20260407T152415Z
UID:6862-1775127600-1775131200@www.gssistemi.it
SUMMARY:Webinar "Registratore Telematico e POS: novità normative e opportunità per i Commercialisti"
DESCRIPTION:[vc_row][vc_column][vc_column_text]Dal 5 Marzo 2026 è attivo il servizio che consente il collegamento tra registratori telematici (RT) e strumenti di pagamento elettronico (POS). \nDurante il webinar offriremo una panoramica completa di questa novità\, approfondendo il quadro normativo\, le principali scadenze e le sanzioni previste. \nPresenteremo inoltre la nuova integrazione tra Lasersoft e PROFIS\, che offre ai Commercialisti strumenti evoluti con cui ampliare i servizi\, ottimizzare i processi e sviluppare una consulenza sempre più strategica per i propri clienti. \nRELATORI \n\nMarco Cosci – Direttore Operativo GS Sistemi\nAnnangela Ficarella – Responsabile Assistenza Studi e Coordinatore Progetti\n\n[/vc_column_text][/vc_column][/vc_row][vc_row tm_bgimagefixed=””][vc_column width=”1/2″][vc_btn title=”Guarda la registrazione” color=”danger” size=”lg” align=”center” link=”url:https%3A%2F%2Fwww.youtube.com%2Fwatch%3Fv%3D1x1ehdjgj3o|target:_blank”][/vc_column][vc_column width=”1/2″][vc_btn title=”Scarica le slide” color=”danger” size=”lg” align=”center” link=”url:https%3A%2F%2Fwww.gssistemi.it%2Fwp-content%2Fuploads%2F2026%2F04%2F260402-Webinar-RT-novita-normative-e-opportunita.pdf|target:_blank”][/vc_column][/vc_row]
URL:https://www.gssistemi.it/event/webinar-registratore-telematico-e-pos-novita-normative-e-opportunita-per-i-commercialisti/
LOCATION:Webinar Online
CATEGORIES:HoReCa,PROFIS,STUDI PROFESSIONALI
ATTACH;FMTTYPE=image/jpeg:https://www.gssistemi.it/wp-content/uploads/2026/03/Webinar-RT-e-POS.jpg
ORGANIZER;CN="GS%20Sistemi":MAILTO:marketing@sistemigs.com
END:VEVENT
END:VCALENDAR