BEGIN:VCALENDAR
VERSION:2.0
PRODID:-//GS Sistemi - ECPv5.13.0//NONSGML v1.0//EN
CALSCALE:GREGORIAN
METHOD:PUBLISH
X-WR-CALNAME:GS Sistemi
X-ORIGINAL-URL:https://www.gssistemi.it
X-WR-CALDESC:Events for GS Sistemi
REFRESH-INTERVAL;VALUE=DURATION:PT1H
X-Robots-Tag:noindex
X-PUBLISHED-TTL:PT1H
BEGIN:VTIMEZONE
TZID:Europe/Rome
BEGIN:DAYLIGHT
TZOFFSETFROM:+0100
TZOFFSETTO:+0200
TZNAME:CEST
DTSTART:20250330T010000
END:DAYLIGHT
BEGIN:STANDARD
TZOFFSETFROM:+0200
TZOFFSETTO:+0100
TZNAME:CET
DTSTART:20251026T010000
END:STANDARD
BEGIN:DAYLIGHT
TZOFFSETFROM:+0100
TZOFFSETTO:+0200
TZNAME:CEST
DTSTART:20260329T010000
END:DAYLIGHT
BEGIN:STANDARD
TZOFFSETFROM:+0200
TZOFFSETTO:+0100
TZNAME:CET
DTSTART:20261025T010000
END:STANDARD
END:VTIMEZONE
BEGIN:VEVENT
DTSTART;TZID=Europe/Rome:20250414T150000
DTEND;TZID=Europe/Rome:20250414T170000
DTSTAMP:20260420T093354
CREATED:20250314T151940Z
LAST-MODIFIED:20250314T151958Z
UID:6064-1744642800-1744650000@www.gssistemi.it
SUMMARY:Webinar "La business intelligence in studio valorizza i servizi ai clienti e migliora l’organizzazione"
DESCRIPTION:[vc_row][vc_column][vc_column_text]Webinar gratuito accreditato dall’ODCEC di Livorno e in organizzato collaborazione con GS Sistemi e Sistemi SpA. \n>>> APPROFONDISCI I TEMI TRATTATI E ISCRIVITI >>> \nL’evento è gratuito e ha la durata di 2 ore. La frequentazione consente ai partecipanti di maturare 1 CFP a fronte di ogni ora di partecipazione\, fino a un massimo di 2 CFP. \nRELATORI\nAndrea Matheoud – Dal 2018 in Strike Data Intelligence gestisce progetti di analisi dati partendo dalle persone e trasformando matematica e statistica in indicatori di business.\nGiuseppe Seminara – Dottore Commercialista e Revisore Contabile\, da oltre vent’anni opera nell’ambito del controllo di gestione e analisi dei costi per le PMI\nOlindo Giamberardini – Responsabile marketing di prodotto. Sistemi S.p.A.[/vc_column_text][/vc_column][/vc_row][vc_row][vc_column][vc_btn title=”Iscriviti all’evento” color=”danger” size=”lg” align=”center” link=”url:https%3A%2F%2Fregister.gotowebinar.com%2Fregister%2F1530570109513701978|target:_blank”][/vc_column][/vc_row]
URL:https://www.gssistemi.it/event/webinar-la-business-intelligence-in-studio-valorizza-i-servizi-ai-clienti-e-migliora-lorganizzazione-2/
LOCATION:Webinar Online
CATEGORIES:PROFIS,STUDI PROFESSIONALI
ATTACH;FMTTYPE=image/png:https://www.gssistemi.it/wp-content/uploads/2025/03/La-BI-in-Studio-ODEC-Livorno-GS-Sistemi.png
END:VEVENT
BEGIN:VEVENT
DTSTART;TZID=Europe/Rome:20250417T113000
DTEND;TZID=Europe/Rome:20250417T123000
DTSTAMP:20260420T093354
CREATED:20250403T140045Z
LAST-MODIFIED:20250418T122947Z
UID:6104-1744889400-1744893000@www.gssistemi.it
SUMMARY:Webinar "FORMAZIONE FINANZIATA: un'opportunità per valorizzare la professione del Consulente a costo zero"
DESCRIPTION:[vc_row][vc_column][vc_column_text]In questo webinar\, organizzato in collaborazione tra GS Sistemi e l’ente formativo EDOTTO\, dopo una breve panoramica sugli strumenti PROFIS per la qualificazione dello Studio\, presenteremo i vantaggi della formazione finanziata. \nLa Formazione finanziata è un’opportunità per gli Studi professionali di accedere alla formazione a costo zero sia per il proprio Studio che per i propri clienti.\nVedremo insieme come aderire e accedere ai fondi a disposizione. \n>>> GUARDA LA LOCANDINA>>> \nRELATORI\nAnnangela Ficarella – Responsabile reparto Studi e Coordinatrice progetti in GS Sistemi\nNicola Chiocci –  Product Manager di EDOTTO[/vc_column_text][/vc_column][/vc_row][vc_row][vc_column][vc_btn title=”Guarda la registrazione” color=”danger” size=”lg” align=”center” link=”url:https%3A%2F%2Fyoutu.be%2FnWehpxF6Hys|target:_blank”][/vc_column][/vc_row]
URL:https://www.gssistemi.it/event/webinar-formazione-finanziata-unopportunita-per-valorizzare-la-professione-del-consulente-a-costo-zero/
LOCATION:Webinar Online
CATEGORIES:PROFIS,STUDI PROFESSIONALI
ATTACH;FMTTYPE=image/png:https://www.gssistemi.it/wp-content/uploads/2025/04/Webinar-Formazione-Finanziata.png
END:VEVENT
BEGIN:VEVENT
DTSTART;TZID=Europe/Rome:20250519T150000
DTEND;TZID=Europe/Rome:20250519T170000
DTSTAMP:20260420T093354
CREATED:20250314T145504Z
LAST-MODIFIED:20250321T132504Z
UID:6061-1747666800-1747674000@www.gssistemi.it
SUMMARY:Webinar "Nuove tecnologie a supporto dell'attività professionale"
DESCRIPTION:[vc_row][vc_column][vc_column_text]Webinar gratuito accreditato dall’ODCEC di Livorno e organizzato in collaborazione con GS Sistemi e Sistemi SpA. \n>>> APPROFONDISCI I TEMI TRATTATI E ISCRIVITI >>> \nL’evento è gratuito e ha la durata di 2 ore. La frequentazione consente ai partecipanti di maturare 1 CFP a fronte di ogni ora di partecipazione\, fino a un massimo di 2 CFP. \nRELATORI\n• Umberto Zanini – Dottore Commercialista e Revisore Legale\, è dal 2006 Responsabile delle attività di ricerca tecnico-normativo dell’Osservatorio “Digital B2b” della School of Management del Politecnico di Milano.\n• Paola Callegari – Sistemi S.p.A.[/vc_column_text][/vc_column][/vc_row][vc_row][vc_column][vc_btn title=”Iscriviti all’evento” color=”danger” size=”lg” align=”center” link=”url:https%3A%2F%2Fregister.gotowebinar.com%2Fregister%2F114516780682584152|target:_blank”][/vc_column][/vc_row]
URL:https://www.gssistemi.it/event/webinar-nuove-tecnologie-a-supporto-dellattivita-professionale-2/
LOCATION:Webinar Online
CATEGORIES:PROFIS,STUDI PROFESSIONALI
ATTACH;FMTTYPE=image/png:https://www.gssistemi.it/wp-content/uploads/2025/03/Nuove-tecnologie-ODEC-Livorno-GS-Sistemi.png.png
END:VEVENT
BEGIN:VEVENT
DTSTART;TZID=Europe/Rome:20250617T100000
DTEND;TZID=Europe/Rome:20250617T120000
DTSTAMP:20260420T093354
CREATED:20250401T150008Z
LAST-MODIFIED:20250418T122547Z
UID:6098-1750154400-1750161600@www.gssistemi.it
SUMMARY:Webinar "La business intelligence in studio valorizza i servizi ai clienti e migliora l’organizzazione"
DESCRIPTION:[vc_row][vc_column][vc_column_text]Webinar gratuito accreditato dall’ODCEC di Siena e in organizzato collaborazione con GS Sistemi e Sistemi SpA. \n>>> APPROFONDISCI I TEMI TRATTATI E ISCRIVITI >>> \nL’evento è gratuito e ha la durata di 2 ore. La frequentazione consente ai partecipanti di maturare 1 CFP a fronte di ogni ora di partecipazione\, fino a un massimo di 2 CFP. \nRELATORI\nAndrea Matheoud – Dal 2018 in Strike Data Intelligence gestisce progetti di analisi dati partendo dalle persone e trasformando matematica e statistica in indicatori di business.\nGiuseppe Seminara – Dottore Commercialista e Revisore Contabile\, da oltre vent’anni opera nell’ambito del controllo di gestione e analisi dei costi per le PMI\nOlindo Giamberardini – Responsabile marketing di prodotto. Sistemi S.p.A.[/vc_column_text][/vc_column][/vc_row][vc_row][vc_column][vc_btn title=”Iscriviti all’evento” color=”danger” size=”lg” align=”center” link=”url:https%3A%2F%2Fwww.fpcu.it%2FEventi%2FSchedaEvento.aspx%3Fidop%3D11%26idevento%3D941181|target:_blank”][/vc_column][/vc_row]
URL:https://www.gssistemi.it/event/webinar-la-business-intelligence-in-studio-valorizza-i-servizi-ai-clienti-e-migliora-lorganizzazione-3/
LOCATION:Webinar Online
CATEGORIES:PROFIS,STUDI PROFESSIONALI
ATTACH;FMTTYPE=image/png:https://www.gssistemi.it/wp-content/uploads/2024/05/La-Business-intelligence-Webinar-GS-Sistemi-ODCEC-SIENA.png
END:VEVENT
BEGIN:VEVENT
DTSTART;TZID=Europe/Rome:20251008T103000
DTEND;TZID=Europe/Rome:20251008T123000
DTSTAMP:20260420T093354
CREATED:20250618T153045Z
LAST-MODIFIED:20251009T123857Z
UID:6474-1759919400-1759926600@www.gssistemi.it
SUMMARY:Webinar "Controllo e previsione dell’andamento aziendale"
DESCRIPTION:[vc_row][vc_column][vc_column_text]Questo evento è pensato per il commercialista che vuole offrire consulenze strategiche ai propri clienti\, diventando il loro punto di riferimento.\nGrazie al supporto del gestionale PROFIS di Sistemi SpA verificheremo alcuni strumenti di consulenza e analisi che i professionisti hanno a disposizione per supportare l’azienda cliente. \nWebinar gratuito accreditato dall’ODCEC di Livorno e organizzato in collaborazione con GS Sistemi. \nL’evento è gratuito e ha la durata di 2 ore. La frequentazione consente ai partecipanti di maturare 1 CFP a fronte di ogni ora di partecipazione\, fino a un massimo di 2 CFP. \nRELATORI\n• Annangela Ficarella – Dottore Commercialista e Revisore Contabile | Responsabile Assistenza Professionisti GS Sistemi | Coordinatore Progetti GS Sistemi \n [/vc_column_text][/vc_column][/vc_row][vc_row tm_bgimagefixed=””][vc_column width=”1/2″][vc_btn title=”Scarica le slide” color=”danger” size=”lg” align=”center” link=”url:https%3A%2F%2Fwww.gssistemi.it%2Fwp-content%2Fuploads%2F2025%2F10%2FWEBINAR-STRUMENTI-CONSULENZIALI-ODCEC-LI.pdf|target:_blank”][/vc_column][vc_column width=”1/2″][vc_btn title=”Guarda la registrazione” color=”danger” size=”lg” align=”center” link=”url:https%3A%2F%2Fyoutu.be%2FxEg4Oq7iJq4|target:_blank”][/vc_column][/vc_row]
URL:https://www.gssistemi.it/event/webinar-controllo-e-previsione-dellandamento-aziendale-2/
LOCATION:Webinar Online
CATEGORIES:PROFIS,STUDI PROFESSIONALI
ATTACH;FMTTYPE=image/jpeg:https://www.gssistemi.it/wp-content/uploads/2025/06/Evento_ODCEC-LI.jpg
END:VEVENT
BEGIN:VEVENT
DTSTART;TZID=Europe/Rome:20251110T150000
DTEND;TZID=Europe/Rome:20251110T170000
DTSTAMP:20260420T093354
CREATED:20250618T153131Z
LAST-MODIFIED:20250923T122133Z
UID:6478-1762786800-1762794000@www.gssistemi.it
SUMMARY:Webinar "Sistemi AI per la professione aumentata del commercialista"
DESCRIPTION:[vc_row][vc_column][vc_column_text] \nl rapporto tra commercialisti e tecnologia è un rapporto di lunga data\, ma l’Intelligenza Artificiale apre oggi nuove opportunità per aumentare efficienza e ampliare i servizi di consulenza. In un contesto in continua evoluzione\, il commercialista deve restare al centro della relazione con i clienti\, evolvendo da esperto fiscale a consulente strategico. \nL’evento mostra\, con esempi pratici\, come l’AI possa supportare le attività quotidiane: dalla riclassificazione dei bilanci e contabilizzazione dei movimenti bancari fino all’uso di modelli di Business Intelligence per il controllo di gestione e l’analisi dei dati. \nWebinar gratuito accreditato dall’ODCEC di Livorno e organizzato in collaborazione con GS Sistemi.\nL’evento è gratuito e ha la durata di 2 ore. La frequentazione consente ai partecipanti di maturare 1 CFP a fronte di ogni ora di partecipazione\, fino a un massimo di 2 CFP.\n \n>>> Guarda la locandina >>> \nRELATORI \n\nVittorio Di Tomaso – CEO di Maize S.r.l. – a Jakala Company. Laureato in Filosofia\, imprenditore di prima generazione\, si occupa di Intelligenza Artificiale dalla\nfine degli anni’90 e ha contribuito alla nascita di diverse aziende (CELI – Language Technology\, Blogmeter\, Synapta e Focoos AI\, spin off deep tech del Politecnico\ndi Torino). È stato docente presso l’Università del Piemonte Orientale\, la Libera Università di Bolzano e l’Università di Torino. È presidente del gruppo Digital\nTechnologies dell’Unione Industriali di Torino\, associata a Confindustria.\nOlindo Giamberardini – Responsabile marketing di prodotto. Sistemi S.p.A.\n\n[/vc_column_text][/vc_column][/vc_row][vc_row tm_bgimagefixed=””][vc_column][vc_btn title=”Iscriviti all’evento” color=”danger” size=”lg” align=”center” link=”url:https%3A%2F%2Fregister.gotowebinar.com%2Fregister%2F2296526194527880544|target:_blank”][/vc_column][/vc_row][vc_row tm_bgimagefixed=”” disable_element=”yes”][vc_column width=”1/2″][vc_btn title=”Scarica le slide” color=”danger” size=”lg” align=”center” link=”url:https%3A%2F%2Fwww.gssistemi.it%2Fwp-content%2Fuploads%2F2025%2F02%2FWEBINAR-STRUMENTI-CONSULENZIALI-PER-IL-COMMERCIALISTA-GS-Sistemi-ODCEC-Siena.pdf|target:_blank”][/vc_column][vc_column width=”1/2″][vc_btn title=”Guarda la registrazione” color=”danger” size=”lg” align=”center” link=”url:https%3A%2F%2Fyoutu.be%2FZvSSMnpcwxc|target:_blank”][/vc_column][/vc_row]
URL:https://www.gssistemi.it/event/webinar-sistemi-ai-per-la-professione-aumentata-del-commercialista-2/
LOCATION:Webinar Online
CATEGORIES:PROFIS,STUDI PROFESSIONALI
ATTACH;FMTTYPE=image/jpeg:https://www.gssistemi.it/wp-content/uploads/2025/06/Webinar-ODCEC-LI_Sistemi-AI.jpg
END:VEVENT
BEGIN:VEVENT
DTSTART;TZID=Europe/Rome:20251124T143000
DTEND;TZID=Europe/Rome:20251124T170000
DTSTAMP:20260420T093354
CREATED:20251021T103946Z
LAST-MODIFIED:20251104T143117Z
UID:6619-1763994600-1764003600@www.gssistemi.it
SUMMARY:Evento: "SISTEMINCONTRA JOB - Consulenti del lavoro"
DESCRIPTION:[vc_row][vc_column][vc_column_text]EVENTO RISERVATO UTENTI SISTEMI\n \nIn collaborazione con Sistemi SpA\, e con la speciale partecipazione di relatori Sistemi SpA\, abbiamo organizzato un incontro esclusivo dove presenteremo le ultime novità pensate per supportare al meglio la vostra attività di consulenza in ambito Lavoro e HR. \nDurante l’incontro approfondiremo tematiche fondamentali per l’evoluzione del vostro lavoro: \n\nCollaborazione studio-azienda con soluzioni pratiche per rendere più efficiente il dialogo\, la condivisione dei dati e il processo di firma e validazione dei documenti\nBusiness Intelligence integrata per sfruttare al massimo i dati delle paghe e offrire consulenza ad alto valore aggiunto\nPiattaforma HR cloud e mobile per semplificare le attività azienda-dipendente-consulente\, dai processi HR alla rilevazione e gestione delle presenze\nIntelligenza Artificiale per accedere rapidamente alla documentazione JOB e approfondire tutte le novità degli aggiornamenti\nInnovazione tecnologica e funzionale con JOB4 e tutte le nuove funzionalità che vi aiuteranno a lavorare meglio\, oggi e in prospettiva futura.\n\nPrenotazione obbligatoria entro il 21/11 \nGuarda la locandina dell’evento [/vc_column_text][/vc_column][/vc_row][vc_row tm_bgimagefixed=””][vc_column][vc_btn title=”ISCRIVITI ALL’EVENTO” color=”danger” size=”lg” align=”center” link=”url:https%3A%2F%2Fforms.office.com%2Fe%2F6WHif7Q1pt|target:_blank”][/vc_column][/vc_row]
URL:https://www.gssistemi.it/event/evento-sistemincontra-job-consulenti-del-lavoro/
LOCATION:Sede Confindustria Toscana Sud – Grosseto\, Via monterosa\, 196\, Grosseto\, GR\, 58100\, Italy
CATEGORIES:JOB,STUDI PROFESSIONALI
ATTACH;FMTTYPE=image/png:https://www.gssistemi.it/wp-content/uploads/2025/10/Sistemincontra-JOB.png
END:VEVENT
BEGIN:VEVENT
DTSTART;TZID=Europe/Rome:20260121T120000
DTEND;TZID=Europe/Rome:20260121T130000
DTSTAMP:20260420T093354
CREATED:20260108T152459Z
LAST-MODIFIED:20260126T092310Z
UID:6727-1768996800-1769000400@www.gssistemi.it
SUMMARY:Webinar "Registratori telematici e pagamenti elettronici: novità normative e implicazioni fiscali"
DESCRIPTION:[vc_row][vc_column][vc_column_text] \nDal 2026 entrerà in vigore l’obbligo di integrazione tra registratori telematici (RT) e strumenti di pagamento elettronico (POS). \nDurante il webinar offriremo una panoramica completa di questa integrazione\, analizzando le novità normative\, gli adempimenti richiesti e le sanzioni previste. \nApprofondiremo inoltre il ruolo strategico del Commercialista in questo nuovo scenario\, evidenziando le opportunità di ottimizzazione dei processi fiscali a supporto dei clienti. \nRELATORI \n\nMarco Cosci – Direttore Operativo GS Sistemi\n\n[/vc_column_text][/vc_column][/vc_row][vc_row tm_bgimagefixed=””][vc_column width=”1/2″][vc_btn title=”Scarica le slide” color=”danger” size=”lg” align=”center” link=”url:https%3A%2F%2Fwww.gssistemi.it%2Fwp-content%2Fuploads%2F2026%2F01%2F260121-Webinar-Registratori-telematici-e-pagamenti-elettronici.pdf|target:_blank”][/vc_column][vc_column width=”1/2″][vc_btn title=”Guarda la registrazione” color=”danger” size=”lg” align=”center” link=”url:https%3A%2F%2Fyoutu.be%2FNKQr-Jsb9g4|target:_blank”][/vc_column][/vc_row]
URL:https://www.gssistemi.it/event/webinar-registratori-telematici-e-pagamenti-elettronici-novita-normative-e-implicazioni-fiscali/
LOCATION:Webinar Online
CATEGORIES:HoReCa,PROFIS,STUDI PROFESSIONALI
ATTACH;FMTTYPE=image/png:https://www.gssistemi.it/wp-content/uploads/2026/01/Webinar-Registratori-Telematici-e-POS_commercialisti.png
ORGANIZER;CN="GS%20Sistemi":MAILTO:marketing@sistemigs.com
END:VEVENT
BEGIN:VEVENT
DTSTART;TZID=Europe/Rome:20260225T110000
DTEND;TZID=Europe/Rome:20260225T130000
DTSTAMP:20260420T093354
CREATED:20260119T113043Z
LAST-MODIFIED:20260227T152250Z
UID:6733-1772017200-1772024400@www.gssistemi.it
SUMMARY:Webinar "La gestione del tempo (1°mod.) - Strumenti di IA a supporto dell'attività del Commercialista"
DESCRIPTION:[vc_row][vc_column][vc_column_text]Webinar gratuito accreditato dall’ODCEC di Siena e organizzato in collaborazione con GS Sistemi. \n>>> APPROFONDISCI I TEMI TRATTATI>>> \nL’evento è gratuito e ha la durata di 2 ore. La frequentazione consente ai partecipanti di maturare 1 CFP a fronte di ogni ora di partecipazione\, fino a un massimo di 2 CFP. \nRELATORI\n• Annangela Ficarella – Dottore Commercialista e Revisore Contabile | Responsabile Assistenza Professionisti GS Sistemi | Coordinatore Progetti GS Sistemi[/vc_column_text][/vc_column][/vc_row][vc_row][vc_column width=”1/2″][vc_btn title=”Richiedi le slide ” color=”danger” size=”lg” align=”center” link=”url:mailto%3A%20marketing%40sistemigs.com|target:_blank”][/vc_column][vc_column width=”1/2″][vc_btn title=”Guarda la registrazione” color=”danger” size=”lg” align=”center” link=”url:https%3A%2F%2Fyoutu.be%2F_Yu1g7LMPjg|target:_blank”][/vc_column][/vc_row]
URL:https://www.gssistemi.it/event/webinar-la-gestione-del-tempo-strumenti-di-ia-a-supporto-dellattivita-del-commercialista-2/
LOCATION:Webinar Online
CATEGORIES:PROFIS,STUDI PROFESSIONALI
ATTACH;FMTTYPE=image/png:https://www.gssistemi.it/wp-content/uploads/2025/01/La-gestione-del-tempo-Strumenti-di-IA.png
END:VEVENT
BEGIN:VEVENT
DTSTART;TZID=Europe/Rome:20260311T110000
DTEND;TZID=Europe/Rome:20260311T130000
DTSTAMP:20260420T093354
CREATED:20260119T134210Z
LAST-MODIFIED:20260316T093437Z
UID:6736-1773226800-1773234000@www.gssistemi.it
SUMMARY:Webinar "La gestione del tempo (2°mod.) - Automatizzare le operazioni ripetitive di Studio"
DESCRIPTION:[vc_row][vc_column][vc_column_text]Webinar gratuito accreditato dall’ODCEC di Siena e organizzato in collaborazione con GS Sistemi. \n>>> APPROFONDISCI I TEMI TRATTATI >>> \nL’evento è gratuito e ha la durata di 2 ore. La frequentazione consente ai partecipanti di maturare 1 CFP a fronte di ogni ora di partecipazione\, fino a un massimo di 2 CFP. \nRELATORI\n• Annangela Ficarella – Dottore Commercialista e Revisore Contabile | Responsabile Assistenza Professionisti GS Sistemi | Coordinatore Progetti GS Sistemi[/vc_column_text][/vc_column][/vc_row][vc_row][vc_column width=”1/2″][vc_btn title=”Guarda la registrazione” color=”danger” size=”lg” align=”center” link=”url:https%3A%2F%2Fyoutu.be%2FR9TVU5P35rE|target:_blank”][/vc_column][vc_column width=”1/2″][vc_btn title=”Scarica le slide” color=”danger” size=”lg” align=”center” link=”url:https%3A%2F%2Fwww.gssistemi.it%2Fwp-content%2Fuploads%2F2026%2F03%2F260311_La-gestione-del-tempo_automatizzare-le-operazioni-ripetitive.pdf|target:_blank”][/vc_column][/vc_row]
URL:https://www.gssistemi.it/event/webinar-la-gestione-del-tempo-automatizzare-le-operazioni-ripetitive-di-studio-2/
LOCATION:Webinar Online
CATEGORIES:PROFIS,STUDI PROFESSIONALI
ATTACH;FMTTYPE=image/png:https://www.gssistemi.it/wp-content/uploads/2025/01/La-gestione-del-tempo-Automatizzare-le-operazioni-ripetitive.png
END:VEVENT
BEGIN:VEVENT
DTSTART;TZID=Europe/Rome:20260402T110000
DTEND;TZID=Europe/Rome:20260402T120000
DTSTAMP:20260420T093354
CREATED:20260319T154714Z
LAST-MODIFIED:20260407T152415Z
UID:6862-1775127600-1775131200@www.gssistemi.it
SUMMARY:Webinar "Registratore Telematico e POS: novità normative e opportunità per i Commercialisti"
DESCRIPTION:[vc_row][vc_column][vc_column_text]Dal 5 Marzo 2026 è attivo il servizio che consente il collegamento tra registratori telematici (RT) e strumenti di pagamento elettronico (POS). \nDurante il webinar offriremo una panoramica completa di questa novità\, approfondendo il quadro normativo\, le principali scadenze e le sanzioni previste. \nPresenteremo inoltre la nuova integrazione tra Lasersoft e PROFIS\, che offre ai Commercialisti strumenti evoluti con cui ampliare i servizi\, ottimizzare i processi e sviluppare una consulenza sempre più strategica per i propri clienti. \nRELATORI \n\nMarco Cosci – Direttore Operativo GS Sistemi\nAnnangela Ficarella – Responsabile Assistenza Studi e Coordinatore Progetti\n\n[/vc_column_text][/vc_column][/vc_row][vc_row tm_bgimagefixed=””][vc_column width=”1/2″][vc_btn title=”Guarda la registrazione” color=”danger” size=”lg” align=”center” link=”url:https%3A%2F%2Fwww.youtube.com%2Fwatch%3Fv%3D1x1ehdjgj3o|target:_blank”][/vc_column][vc_column width=”1/2″][vc_btn title=”Scarica le slide” color=”danger” size=”lg” align=”center” link=”url:https%3A%2F%2Fwww.gssistemi.it%2Fwp-content%2Fuploads%2F2026%2F04%2F260402-Webinar-RT-novita-normative-e-opportunita.pdf|target:_blank”][/vc_column][/vc_row]
URL:https://www.gssistemi.it/event/webinar-registratore-telematico-e-pos-novita-normative-e-opportunita-per-i-commercialisti/
LOCATION:Webinar Online
CATEGORIES:HoReCa,PROFIS,STUDI PROFESSIONALI
ATTACH;FMTTYPE=image/jpeg:https://www.gssistemi.it/wp-content/uploads/2026/03/Webinar-RT-e-POS.jpg
ORGANIZER;CN="GS%20Sistemi":MAILTO:marketing@sistemigs.com
END:VEVENT
END:VCALENDAR