BEGIN:VCALENDAR
VERSION:2.0
PRODID:-//GS Sistemi - ECPv5.13.0//NONSGML v1.0//EN
CALSCALE:GREGORIAN
METHOD:PUBLISH
X-WR-CALNAME:GS Sistemi
X-ORIGINAL-URL:https://www.gssistemi.it
X-WR-CALDESC:Events for GS Sistemi
REFRESH-INTERVAL;VALUE=DURATION:PT1H
X-Robots-Tag:noindex
X-PUBLISHED-TTL:PT1H
BEGIN:VTIMEZONE
TZID:Europe/Rome
BEGIN:DAYLIGHT
TZOFFSETFROM:+0100
TZOFFSETTO:+0200
TZNAME:CEST
DTSTART:20250330T010000
END:DAYLIGHT
BEGIN:STANDARD
TZOFFSETFROM:+0200
TZOFFSETTO:+0100
TZNAME:CET
DTSTART:20251026T010000
END:STANDARD
END:VTIMEZONE
BEGIN:VEVENT
DTSTART;TZID=Europe/Rome:20250206T103000
DTEND;TZID=Europe/Rome:20250206T123000
DTSTAMP:20260420T074342
CREATED:20250204T101603Z
LAST-MODIFIED:20250204T101811Z
UID:6027-1738837800-1738845000@www.gssistemi.it
SUMMARY:Controllo e previsione dell'andamento aziendale: strumenti consulenziali per Commercialisti
DESCRIPTION:Evento su invito \nUn appuntamento per presentare i nuovi moduli PROFIS pensati per il Commercialista che vuole offrire ai propri clienti servizi di consulenza su Budget\, Analisi storica dei bilanci\, Business plan\, monitoraggio dell’attività aziendale ai fini della prevenzione della Crisi di impresa\, Revisione e vigilanza delle società.
URL:https://www.gssistemi.it/event/controllo-e-previsione-dellandamento-aziendale-strumenti-consulenziali-per-commercialisti-3-2/
LOCATION:Arezzo
CATEGORIES:PROFIS,STUDI PROFESSIONALI
ATTACH;FMTTYPE=image/png:https://www.gssistemi.it/wp-content/uploads/2025/02/controllo-e-previsione-andamento-aziendale-commercialisti.png
ORGANIZER;CN="GS%20Sistemi":MAILTO:marketing@sistemigs.com
END:VEVENT
BEGIN:VEVENT
DTSTART;TZID=Europe/Rome:20250219T100000
DTEND;TZID=Europe/Rome:20250219T120000
DTSTAMP:20260420T074342
CREATED:20250115T093327Z
LAST-MODIFIED:20250220T105735Z
UID:5998-1739959200-1739966400@www.gssistemi.it
SUMMARY:Webinar "Controllo e previsione dell’andamento aziendale"
DESCRIPTION:[vc_row][vc_column][vc_column_text]Webinar gratuito accreditato dall’ODCEC di Siena e organizzato in collaborazione con GS Sistemi. \n>>> APPROFONDISCI I TEMI TRATTATI E ISCRIVITI >>> \nL’evento è gratuito e ha la durata di 2 ore. La frequentazione consente ai partecipanti di maturare 1 CFP a fronte di ogni ora di partecipazione\, fino a un massimo di 2 CFP. \nRELATORI\n• Annangela Ficarella – Dottore Commercialista e Revisore Contabile | Responsabile Assistenza Professionisti GS Sistemi | Coordinatore Progetti GS Sistemi[/vc_column_text][/vc_column][/vc_row][vc_row][vc_column width=”1/2″][vc_btn title=”Scarica le slide” color=”danger” size=”lg” align=”center” link=”url:https%3A%2F%2Fwww.gssistemi.it%2Fwp-content%2Fuploads%2F2025%2F02%2FWEBINAR-STRUMENTI-CONSULENZIALI-PER-IL-COMMERCIALISTA-GS-Sistemi-ODCEC-Siena.pdf|target:_blank”][/vc_column][vc_column width=”1/2″][vc_btn title=”Guarda la registrazione” color=”danger” size=”lg” align=”center” link=”url:https%3A%2F%2Fyoutu.be%2FZvSSMnpcwxc|target:_blank”][/vc_column][/vc_row]
URL:https://www.gssistemi.it/event/webinar-controllo-e-previsione-dellandamento-aziendale/
LOCATION:Webinar Online
CATEGORIES:PROFIS,STUDI PROFESSIONALI
ATTACH;FMTTYPE=image/png:https://www.gssistemi.it/wp-content/uploads/2025/01/Controllo-e-previsione-dellandamento-aziendale.png
END:VEVENT
END:VCALENDAR