BEGIN:VCALENDAR
VERSION:2.0
PRODID:-//GS Sistemi - ECPv5.13.0//NONSGML v1.0//EN
CALSCALE:GREGORIAN
METHOD:PUBLISH
X-WR-CALNAME:GS Sistemi
X-ORIGINAL-URL:https://www.gssistemi.it
X-WR-CALDESC:Events for GS Sistemi
REFRESH-INTERVAL;VALUE=DURATION:PT1H
X-Robots-Tag:noindex
X-PUBLISHED-TTL:PT1H
BEGIN:VTIMEZONE
TZID:Europe/Rome
BEGIN:DAYLIGHT
TZOFFSETFROM:+0100
TZOFFSETTO:+0200
TZNAME:CEST
DTSTART:20240331T010000
END:DAYLIGHT
BEGIN:STANDARD
TZOFFSETFROM:+0200
TZOFFSETTO:+0100
TZNAME:CET
DTSTART:20241027T010000
END:STANDARD
END:VTIMEZONE
BEGIN:VEVENT
DTSTART;TZID=Europe/Rome:20240418T110000
DTEND;TZID=Europe/Rome:20240418T120000
DTSTAMP:20260420T234245
CREATED:20240408T143204Z
LAST-MODIFIED:20241204T092030Z
UID:5404-1713438000-1713441600@www.gssistemi.it
SUMMARY:JOB/Planner: automatizzare le operazioni ripetitive di Studio
DESCRIPTION:[vc_row][vc_column][vc_column_text]In questo webinar la nostra Consulente Gestionale HR Simona Bellanova offrirà una panoramica sul supporto offerto dal modulo al fine di automatizzare le operazioni ripetitive\, come: \n• Il Completamento dei cedolini di tutte le ditte\n• Calcolare le denunce mensili per tutte le ditte\n• Pianificare e inviare i documenti mensili e annuali ai clienti\n• Monitorare lo stato di avanzamento delle elaborazioni e l’evidenza di eventuali anomalie[/vc_column_text][vc_row_inner content_placement=”middle” css=”.vc_custom_1708086464219{padding-top: 20px !important;}”][vc_column_inner width=”1/2″][vc_btn title=”Scarica le slide” style=”custom” custom_background=”#c20e1a” custom_text=”#ffffff” align=”center” link=”url:https%3A%2F%2Fwww.gssistemi.it%2Fwp-content%2Fuploads%2F2024%2F04%2FJOBPlanner-automatizzare-le-operazioni-ripetitive-di-Studio.pdf|target:_blank”][/vc_column_inner][vc_column_inner width=”1/2″][vc_btn title=”Guarda la registrazione” style=”custom” custom_background=”#c20e1a” custom_text=”#ffffff” align=”center” link=”url:https%3A%2F%2Fyoutu.be%2F2MTFcSWt8yI|target:_blank”][/vc_column_inner][/vc_row_inner][/vc_column][/vc_row]
URL:https://www.gssistemi.it/event/job-planner-automatizzare-le-operazioni-ripetitive-di-studio/
LOCATION:Webinar Online
CATEGORIES:JOB,STUDI PROFESSIONALI
ATTACH;FMTTYPE=image/jpeg:https://www.gssistemi.it/wp-content/uploads/2024/04/JOB-Planner-automatizzare-operazioni-ripetitive.jpg
ORGANIZER;CN="GS%20Sistemi":MAILTO:marketing@sistemigs.com
END:VEVENT
BEGIN:VEVENT
DTSTART;TZID=Europe/Rome:20240430T110000
DTEND;TZID=Europe/Rome:20240430T123000
DTSTAMP:20260420T234245
CREATED:20240422T101851Z
LAST-MODIFIED:20240502T084827Z
UID:5471-1714474800-1714480200@www.gssistemi.it
SUMMARY:Il Monitoraggio aziendale con Analisi e Consulenza d'impresa
DESCRIPTION:[vc_row][vc_column][vc_column_text]In questo webinar vedremo insieme il nuovo modulo “𝗔𝗻𝗮𝗹𝗶𝘀𝗶 𝗲 𝗰𝗼𝗻𝘀𝘂𝗹𝗲𝗻𝘇𝗮 𝗱𝗶 𝗶𝗺𝗽𝗿𝗲𝘀𝗮” che ti consente di elaborare\, stampare e condividere:\n• Analisi di bilancio\n• Basilea 2\n• Budget\n• Business Plan\n• Crisi d’impresa \nIl webinar è pensato per:\n• il Commercialista che vuole offrire consulenze strategiche ai propri clienti e diventare il loro punto di riferimento\n• le aziende che vogliono monitorare il proprio andamento aziendale e rispondere ai nuovi adempimenti previsti dal Codice della Crisi \nE se non sei cliente Sistemi non c’è problema: il modulo consente di acquisire i bilanci in excel da qualsiasi software di contabilità\, anche non Sistemi.[/vc_column_text][vc_row_inner content_placement=”middle” css=”.vc_custom_1708086464219{padding-top: 20px !important;}”][vc_column_inner width=”1/2″][vc_btn title=”Scarica le slide” style=”custom” custom_background=”#c20e1a” custom_text=”#ffffff” align=”center” link=”url:https%3A%2F%2Fwww.gssistemi.it%2Fwp-content%2Fuploads%2F2024%2F05%2F240430-Il-monitoraggio-aziendale-con-Analisi-e-consulenza-impresa.pdf|target:_blank”][/vc_column_inner][vc_column_inner width=”1/2″][vc_btn title=”Guarda la registrazione” style=”custom” custom_background=”#c20e1a” custom_text=”#ffffff” align=”center” link=”url:https%3A%2F%2Fyoutu.be%2FWd6cne3zDxU|target:_blank”][/vc_column_inner][/vc_row_inner][/vc_column][/vc_row]
URL:https://www.gssistemi.it/event/il-monitoraggio-aziendale-con-analisi-e-consulenza-dimpresa/
LOCATION:Webinar Online
CATEGORIES:IMPRESE,PROFIS,STUDI PROFESSIONALI
ATTACH;FMTTYPE=image/jpeg:https://www.gssistemi.it/wp-content/uploads/2024/04/Webinar-Analisi-e-consulenza-dimpresa.jpg
ORGANIZER;CN="GS%20Sistemi":MAILTO:marketing@sistemigs.com
END:VEVENT
END:VCALENDAR