BEGIN:VCALENDAR
VERSION:2.0
PRODID:-//GS Sistemi - ECPv5.13.0//NONSGML v1.0//EN
CALSCALE:GREGORIAN
METHOD:PUBLISH
X-WR-CALNAME:GS Sistemi
X-ORIGINAL-URL:https://www.gssistemi.it
X-WR-CALDESC:Events for GS Sistemi
REFRESH-INTERVAL;VALUE=DURATION:PT1H
X-Robots-Tag:noindex
X-PUBLISHED-TTL:PT1H
BEGIN:VTIMEZONE
TZID:Europe/Rome
BEGIN:DAYLIGHT
TZOFFSETFROM:+0100
TZOFFSETTO:+0200
TZNAME:CEST
DTSTART:20240331T010000
END:DAYLIGHT
BEGIN:STANDARD
TZOFFSETFROM:+0200
TZOFFSETTO:+0100
TZNAME:CET
DTSTART:20241027T010000
END:STANDARD
END:VTIMEZONE
BEGIN:VEVENT
DTSTART;TZID=Europe/Rome:20240215T110000
DTEND;TZID=Europe/Rome:20240215T120000
DTSTAMP:20260421T025640
CREATED:20240214T093520Z
LAST-MODIFIED:20241204T092050Z
UID:5315-1707994800-1707998400@www.gssistemi.it
SUMMARY:JOB - Corso di inizio anno: implementazioni 2023 e novità 2024
DESCRIPTION:[vc_row][vc_column][vc_column_text]In questo corso di inizio anno JOB\, le nostre Consulenti Gestionali HR\, Simona Bellanova e Francesca Del Vita\, offrono una panoramica sulle implementazioni 2023 e sulle novità 2024 JOB\, in particolare: \n• Focus implementazioni della procedura 2023/2024\n• La nuova stampa Lul\n• L’integrazione con il software Uniemens\n• La nuova gestione dei fringe benefit 2024[/vc_column_text][vc_row_inner content_placement=”middle” css=”.vc_custom_1708086464219{padding-top: 20px !important;}”][vc_column_inner width=”1/2″][vc_btn title=”Guarda la registrazione” style=”custom” custom_background=”#c20e1a” custom_text=”#ffffff” align=”center” link=”url:https%3A%2F%2Fyoutu.be%2FOXfb8_YAjaU|target:_blank”][/vc_column_inner][vc_column_inner width=”1/2″][vc_btn title=”Scarica le slide” style=”custom” custom_background=”#c20e1a” custom_text=”#ffffff” align=”center” link=”url:https%3A%2F%2Fwww.gssistemi.it%2Fwp-content%2Fuploads%2F2024%2F02%2F240215-Corso-inizio-anno-JOB.pdf|target:_blank”][/vc_column_inner][/vc_row_inner][/vc_column][/vc_row]
URL:https://www.gssistemi.it/event/job-corso-di-inizio-anno-implementazioni-2023-e-novita-2024/
LOCATION:Webinar Online
CATEGORIES:JOB,STUDI PROFESSIONALI
ATTACH;FMTTYPE=image/jpeg:https://www.gssistemi.it/wp-content/uploads/2024/02/Corso-di-inizio-anno-JOB.jpg
ORGANIZER;CN="GS%20Sistemi":MAILTO:marketing@sistemigs.com
END:VEVENT
BEGIN:VEVENT
DTSTART;TZID=Europe/Rome:20240220T103000
DTEND;TZID=Europe/Rome:20240220T130000
DTSTAMP:20260421T025640
CREATED:20240301T093856Z
LAST-MODIFIED:20240304T151015Z
UID:5329-1708425000-1708434000@www.gssistemi.it
SUMMARY:Controllo e previsione dell'andamento aziendale: strumenti consulenziali per Commercialisti
DESCRIPTION:Evento su invito \nDue appuntamenti per presentare i nuovi moduli PROFIS pensati per il Commercialista che vuole offrire ai propri clienti servizi di consulenza su Budget\, Analisi storica dei bilanci\, Business plan\, monitoraggio dell’attività aziendale ai fini della prevenzione della Crisi di impresa\, Revisione e vigilanza delle società.
URL:https://www.gssistemi.it/event/controllo-e-previsione-dellandamento-aziendale-strumenti-consulenziali-per-commercialisti/
LOCATION:Siena\, 53100
CATEGORIES:PROFIS,STUDI PROFESSIONALI
ATTACH;FMTTYPE=image/png:https://www.gssistemi.it/wp-content/uploads/2024/03/Controllo-e-previsione-dellandamento-aziendale_Business-plan-Budget-Analisi-crisi-impresa-PROFIS.png
ORGANIZER;CN="GS%20Sistemi":MAILTO:marketing@sistemigs.com
END:VEVENT
BEGIN:VEVENT
DTSTART;TZID=Europe/Rome:20240228T100000
DTEND;TZID=Europe/Rome:20240228T123000
DTSTAMP:20260421T025640
CREATED:20240304T151121Z
LAST-MODIFIED:20240304T151121Z
UID:5350-1709114400-1709123400@www.gssistemi.it
SUMMARY:Controllo e previsione dell'andamento aziendale: strumenti consulenziali per Commercialisti
DESCRIPTION:Evento su invito \nDue appuntamenti per presentare i nuovi moduli PROFIS pensati per il Commercialista che vuole offrire ai propri clienti servizi di consulenza su Budget\, Analisi storica dei bilanci\, Business plan\, monitoraggio dell’attività aziendale ai fini della prevenzione della Crisi di impresa\, Revisione e vigilanza delle società.
URL:https://www.gssistemi.it/event/controllo-e-previsione-dellandamento-aziendale-strumenti-consulenziali-per-commercialisti-3/
LOCATION:Grosseto\, 58100
CATEGORIES:PROFIS,STUDI PROFESSIONALI
ATTACH;FMTTYPE=image/png:https://www.gssistemi.it/wp-content/uploads/2024/03/Controllo-e-previsione-dellandamento-aziendale_Business-plan-Budget-Analisi-crisi-impresa-PROFIS.png
ORGANIZER;CN="GS%20Sistemi":MAILTO:marketing@sistemigs.com
END:VEVENT
END:VCALENDAR