BEGIN:VCALENDAR
VERSION:2.0
PRODID:-//GS Sistemi - ECPv5.13.0//NONSGML v1.0//EN
CALSCALE:GREGORIAN
METHOD:PUBLISH
X-WR-CALNAME:GS Sistemi
X-ORIGINAL-URL:https://www.gssistemi.it
X-WR-CALDESC:Events for GS Sistemi
REFRESH-INTERVAL;VALUE=DURATION:PT1H
X-Robots-Tag:noindex
X-PUBLISHED-TTL:PT1H
BEGIN:VTIMEZONE
TZID:Europe/Rome
BEGIN:DAYLIGHT
TZOFFSETFROM:+0100
TZOFFSETTO:+0200
TZNAME:CEST
DTSTART:20230326T010000
END:DAYLIGHT
BEGIN:STANDARD
TZOFFSETFROM:+0200
TZOFFSETTO:+0100
TZNAME:CET
DTSTART:20231029T010000
END:STANDARD
END:VTIMEZONE
BEGIN:VEVENT
DTSTART;TZID=Europe/Rome:20231109T093000
DTEND;TZID=Europe/Rome:20231109T123000
DTSTAMP:20260421T074152
CREATED:20230911T133919Z
LAST-MODIFIED:20231109T094135Z
UID:4903-1699522200-1699533000@www.gssistemi.it
SUMMARY:Far crescere lo studio focalizzandosi sui clienti e sul marketing
DESCRIPTION:Webinar gratuito accreditato organizzato da Sistemi SpA e con relatori il Prof. Bernardo Bertoldi e il Dott. Olindo Giamberardini. \nAPPROFONDISCI I TEMI TRATTATI E ISCRIVITI  \nSono state organizzate più date\, così da dare la possibilità a tutti di partecipare\, visto che saranno trattati aspetti interessanti per la professione del Commercialista.\nDATE WEBINAR: \n\n13 Settembre 2023 – h.9.30-12.30\n04 Ottobre 2023 – h.14.30-17.30\n09 Novembre 2023 – h.9.30-12.30\n\nI partecipanti dell’evento maturano 1 CFP a fronte di ogni ora di partecipazione\, fino ad un massimo di 3 CFP. A tutti i partecipanti saranno inviati gli atti dell’evento\, l’ebook tematico realizzato con i relatori e i materiali di approfondimento sui temi trattati in ogni evento.
URL:https://www.gssistemi.it/event/far-crescere-lo-studio-focalizzandosi-sui-clienti-e-sul-marketing/
LOCATION:Webinar Online
CATEGORIES:PROFIS,STUDI PROFESSIONALI
ATTACH;FMTTYPE=image/png:https://www.gssistemi.it/wp-content/uploads/2023/09/Far-crescere-lo-studio-focalizzandosi-sui-clienti-e-sul-marketing.png
END:VEVENT
BEGIN:VEVENT
DTSTART;TZID=Europe/Rome:20231110T150000
DTEND;TZID=Europe/Rome:20231110T170000
DTSTAMP:20260421T074152
CREATED:20230914T085729Z
LAST-MODIFIED:20231109T094230Z
UID:4930-1699628400-1699635600@www.gssistemi.it
SUMMARY:Gli adempimenti dei professionisti in materia di antiriciclaggio e soluzioni operative per la gestione
DESCRIPTION:Webinar gratuito accreditato organizzato da Sistemi SpA e con relatori il Dott. Alfonso Gargano e la Dott.ssa Paola Callegari. \nAPPROFONDISCI I TEMI TRATTATI E ISCRIVITI  \nSono state organizzate più date\, così da dare la possibilità a tutti di partecipare\, visto che saranno trattati aspetti interessanti per la professione del Commercialista.\nDATE WEBINAR: \n\n20 Settembre 2023 – h.15.00-17.00\n3 Ottobre 2023 – h.10.00-12.00\n10 Novembre 2023 – h.15.00-17.00\n\nL’evento è gratuito e ha la durata di 2 ore. La frequentazione consente ai partecipanti di maturare 1 CFP a fronte di ogni ora di partecipazione\, fino a un massimo di 2 CFP (B.3.2).
URL:https://www.gssistemi.it/event/gli-adempimenti-dei-professionisti-in-materia-di-antiriciclaggio-e-soluzioni-operative-per-la-gestione-2/
LOCATION:Webinar Online
CATEGORIES:PROFIS,STUDI PROFESSIONALI
ATTACH;FMTTYPE=image/png:https://www.gssistemi.it/wp-content/uploads/2023/09/Webinar-Sistemi-antiriciclaggio.png
END:VEVENT
BEGIN:VEVENT
DTSTART;TZID=Europe/Rome:20231114T103000
DTEND;TZID=Europe/Rome:20231114T123000
DTSTAMP:20260421T074152
CREATED:20231024T081026Z
LAST-MODIFIED:20231116T093305Z
UID:4996-1699957800-1699965000@www.gssistemi.it
SUMMARY:Il Business Plan come strumento indispensabile per il monitoraggio dell'attività aziendale
DESCRIPTION:[vc_row][vc_column][vc_column_text]In questo appuntamento analizzeremo gli “strumenti” da proporre ai propri clienti di studio per dotarsi degli adeguati assetti organizzativi\, amministrativi e contabili anche alla luce dei nuovi adempimenti previsti dal codice Crisi di impresa. \nDurante il corso analizzeremo casistiche pratiche utilizzando come esempio i gestionali Sistemi SpA. \nL’evento è gratuito e organizzato in collaborazione con l’ODCEC di Siena.\nLa frequentazione consente ai partecipanti di maturare 2 CFP.[/vc_column_text][/vc_column][/vc_row][vc_row][vc_column width=”1/2″][vc_btn title=”Scarica le slide” color=”danger” size=”lg” align=”center” link=”url:https%3A%2F%2Fwww.gssistemi.it%2Fwp-content%2Fuploads%2F2023%2F11%2F231109-WEBINAR-BUSINESS-PLAN-ODCEC.pdf|target:_blank”][/vc_column][vc_column width=”1/2″][vc_btn title=”Guarda la registrazione” color=”danger” size=”lg” align=”center” link=”url:https%3A%2F%2Fyoutu.be%2Ft97ZOcX9cJg|target:_blank”][/vc_column][/vc_row]
URL:https://www.gssistemi.it/event/il-business-plan-come-strumento-indispensabile-per-il-monitoraggio-dellattivita-aziendale/
LOCATION:Webinar Online
CATEGORIES:PROFIS,STUDI PROFESSIONALI
ATTACH;FMTTYPE=image/png:https://www.gssistemi.it/wp-content/uploads/2023/10/Webinar-Business-Plan-.png
ORGANIZER;CN="GS%20Sistemi":MAILTO:marketing@sistemigs.com
END:VEVENT
BEGIN:VEVENT
DTSTART;TZID=Europe/Rome:20231116T100000
DTEND;TZID=Europe/Rome:20231201T120000
DTSTAMP:20260421T074152
CREATED:20231023T102006Z
LAST-MODIFIED:20231109T094441Z
UID:4990-1700128800-1701432000@www.gssistemi.it
SUMMARY:Nuove tecnologie a supporto dell'attività professionale
DESCRIPTION:Webinar gratuito accreditato organizzato da Sistemi SpA e con relatori il Dott. Umberto Zanini e la Dott.ssa Paola Callegari: \nAPPROFONDISCI I TEMI TRATTATI E ISCRIVITI  \nSono state organizzate più date\, così da dare la possibilità a tutti di partecipare\, visto che saranno trattati aspetti interessanti per la professione del Commercialista.\nDATE WEBINAR: \n\n24 Ottobre 2023 – h.10.00-12.00\n16 Novembre 2023 – h.15.00-17.00\n01 Dicembre 2023 – h.10.00-12.00\n\nL’evento è gratuito e ha la durata di 2 ore. La frequentazione consente ai partecipanti di maturare 1 CFP a fronte di ogni ora di partecipazione\, fino a un massimo di 2 CFP.
URL:https://www.gssistemi.it/event/nuove-tecnologie-a-supporto-dellattivita-professionale/
LOCATION:Webinar Online
CATEGORIES:PROFIS,STUDI PROFESSIONALI
ATTACH;FMTTYPE=image/png:https://www.gssistemi.it/wp-content/uploads/2023/10/webinar-Nuove-tecnologie-a-supporto-commercialista.png
END:VEVENT
BEGIN:VEVENT
DTSTART;TZID=Europe/Rome:20231121T100000
DTEND;TZID=Europe/Rome:20231121T100000
DTSTAMP:20260421T074152
CREATED:20231002T143629Z
LAST-MODIFIED:20231109T094258Z
UID:4958-1700560800-1700560800@www.gssistemi.it
SUMMARY:La continuità aziendale e gli adeguati assetti organizzativi\, amministrativi e contabili
DESCRIPTION:Webinar gratuito accreditato organizzato da Sistemi SpA e con relatori il Dott. Nicola Lucido e il Dott. Lorenzo Marchese. \nAPPROFONDISCI I TEMI TRATTATI E ISCRIVITI  \nSono state organizzate più date\, così da dare la possibilità a tutti di partecipare\, visto che saranno trattati aspetti interessanti per la professione del Commercialista.\nDATE WEBINAR: \n\n9 Ottobre 2023 – h.10.00-12.00\n31 Ottobre 2023 – h.15.00-17.00\n21 Novembre 2023 – h.10.00-12.00\n\nL’evento è gratuito e ha la durata di 2 ore. La frequentazione consente ai partecipanti di maturare 1 CFP a fronte di ogni ora di partecipazione\, fino a un massimo di 2 CFP.
URL:https://www.gssistemi.it/event/la-continuita-aziendale-e-gli-adeguati-assetti-organizzativi-amministrativi-e-contabili/
LOCATION:Webinar Online
CATEGORIES:PROFIS,STUDI PROFESSIONALI
ATTACH;FMTTYPE=image/png:https://www.gssistemi.it/wp-content/uploads/2023/10/la-continuita-aziendale.png
END:VEVENT
BEGIN:VEVENT
DTSTART;TZID=Europe/Rome:20231123T093000
DTEND;TZID=Europe/Rome:20231205T123000
DTSTAMP:20260421T074152
CREATED:20231116T095140Z
LAST-MODIFIED:20231116T095140Z
UID:5103-1700731800-1701779400@www.gssistemi.it
SUMMARY:Il “nuovo” processo tributario tra riforma e gestione telematica
DESCRIPTION:Webinar gratuito accreditato organizzato da Sistemi SpA e con relatore l’Avvocato Carlo Nocera. \nAPPROFONDISCI I TEMI TRATTATI E ISCRIVITI  \nSono state organizzate più date\, così da dare la possibilità a tutti di partecipare\, visto che saranno trattati aspetti interessanti per la professione del Commercialista.\nDATE WEBINAR: \n\n23 Novembre 2023 – h.15.00-18.00\n05 Dicembre 2023 – h.15.00-18.00\n\nI partecipanti dell’evento maturano 1 CFP a fronte di ogni ora di partecipazione\, fino ad un massimo di 3 CFP. A tutti i partecipanti saranno inviati gli atti dell’evento\, l’ebook tematico realizzato con i relatori e i materiali di approfondimento sui temi trattati in ogni evento.
URL:https://www.gssistemi.it/event/il-nuovo-processo-tributario-tra-riforma-e-gestione-telematica/
LOCATION:Webinar Online
CATEGORIES:PROFIS,STUDI PROFESSIONALI
ATTACH;FMTTYPE=image/jpeg:https://www.gssistemi.it/wp-content/uploads/2023/11/Il-nuovo-processo-tributario-tra-riforma-e-gestione-telematica.jpg
END:VEVENT
BEGIN:VEVENT
DTSTART;TZID=Europe/Rome:20231128T150000
DTEND;TZID=Europe/Rome:20231128T170000
DTSTAMP:20260421T074152
CREATED:20231013T133937Z
LAST-MODIFIED:20231109T094526Z
UID:4985-1701183600-1701190800@www.gssistemi.it
SUMMARY:La business intelligence in studio valorizza i servizi ai clienti e migliora l’organizzazione
DESCRIPTION:Webinar gratuito accreditato organizzato da Sistemi SpA e con relatori il Dott. Giuseppe Seminara\, il Dott. Olindo Giamberardini e il Dott. Andrea Matheoud. \nAPPROFONDISCI I TEMI TRATTATI E ISCRIVITI  \nSono state organizzate più date\, così da dare la possibilità a tutti di partecipare\, visto che saranno trattati aspetti interessanti per la professione del Commercialista.\nDATE WEBINAR: \n\n16 Ottobre 2023 – h.15.00-17.00\n07 Novembre 2023 – h.10.00-12.00\n28 Novembre 2023 – h.15.00-17.00\n\nL’evento è gratuito e ha la durata di 2 ore. La frequentazione consente ai partecipanti di maturare 1 CFP a fronte di ogni ora di partecipazione\, fino a un massimo di 2 CFP.
URL:https://www.gssistemi.it/event/la-business-intelligence-in-studio-valorizza-i-servizi-ai-clienti-e-migliora-lorganizzazione/
LOCATION:Webinar Online
CATEGORIES:PROFIS,STUDI PROFESSIONALI
ATTACH;FMTTYPE=image/png:https://www.gssistemi.it/wp-content/uploads/2023/10/Business-Intellingence_webinar.png
END:VEVENT
BEGIN:VEVENT
DTSTART;TZID=Europe/Rome:20231130T093000
DTEND;TZID=Europe/Rome:20231130T123000
DTSTAMP:20260421T074152
CREATED:20230911T135646Z
LAST-MODIFIED:20231109T094211Z
UID:4917-1701336600-1701347400@www.gssistemi.it
SUMMARY:Massimizzare i profitti eccellendo nella gestione dello studio e dei suoi professionisti
DESCRIPTION:Webinar gratuito accreditato organizzato da Sistemi SpA e con relatori il Prof. Bernardo Bertoldi e il Dott. Olindo Giamberardini. \nAPPROFONDISCI I TEMI TRATTATI E ISCRIVITI  \nSono state organizzate più date\, così da dare la possibilità a tutti di partecipare\, visto che saranno trattati aspetti interessanti per la professione del Commercialista.\nDATE WEBINAR: \n\n14 Settembre 2023 – h.14.30-17.30\n12 Ottobre 2023 – h.9.30-12.30\n30 Novembre 2023 – h.14.30-17.30\n\nI partecipanti dell’evento maturano 1 CFP a fronte di ogni ora di partecipazione\, fino ad un massimo di 3 CFP. A tutti i partecipanti saranno inviati gli atti dell’evento\, l’ebook tematico realizzato con i relatori e i materiali di approfondimento sui temi trattati in ogni evento.
URL:https://www.gssistemi.it/event/massimizzare-i-profitti-eccellendo-nella-gestione-dello-studio-e-dei-suoi-professionisti/
LOCATION:Webinar Online
CATEGORIES:PROFIS,STUDI PROFESSIONALI
ATTACH;FMTTYPE=image/jpeg:https://www.gssistemi.it/wp-content/uploads/2023/09/Massimizzare-i-profitti-eccellendo-nella-gestione-dello-studio-e-dei-suoi-professionisti.jpg
END:VEVENT
END:VCALENDAR