BEGIN:VCALENDAR
VERSION:2.0
PRODID:-//GS Sistemi - ECPv5.13.0//NONSGML v1.0//EN
CALSCALE:GREGORIAN
METHOD:PUBLISH
X-WR-CALNAME:GS Sistemi
X-ORIGINAL-URL:https://www.gssistemi.it
X-WR-CALDESC:Events for GS Sistemi
REFRESH-INTERVAL;VALUE=DURATION:PT1H
X-Robots-Tag:noindex
X-PUBLISHED-TTL:PT1H
BEGIN:VTIMEZONE
TZID:Europe/Rome
BEGIN:DAYLIGHT
TZOFFSETFROM:+0100
TZOFFSETTO:+0200
TZNAME:CEST
DTSTART:20230326T010000
END:DAYLIGHT
BEGIN:STANDARD
TZOFFSETFROM:+0200
TZOFFSETTO:+0100
TZNAME:CET
DTSTART:20231029T010000
END:STANDARD
END:VTIMEZONE
BEGIN:VEVENT
DTSTART;TZID=Europe/Rome:20230718T103000
DTEND;TZID=Europe/Rome:20230718T123000
DTSTAMP:20260421T140437
CREATED:20230626T094921Z
LAST-MODIFIED:20230720T130700Z
UID:4837-1689676200-1689683400@www.gssistemi.it
SUMMARY:Fidelizzare i propri clienti con servizi innovativi
DESCRIPTION:[vc_row][vc_column][vc_column_text css=”.vc_custom_1687772650033{padding-bottom: 10px !important;}”]Il rapporto Studio/Clienti è in continua evoluzione. Fidelizzare i propri clienti offrendo loro servizi digitali raggiungibili anche da cellulare\, agevolare e automatizzare il lavoro di Studio sono punti focali per i consulenti che vogliono essere sempre al passo con i tempi.\nUseremo come esempio la piattaforma web SPORTELLO.cloud di Sistemi spa e verificheremo quali servizi digitali proporre\, a quali clienti e quali  vantaggi per lo Studio e per i singoli clienti. \nEvento in collaborazione con l’ODCEC di Siena.\nLa partecipazione da diritto a 2 crediti formativi.[/vc_column_text][vc_row_inner][vc_column_inner width=”1/2″][vc_btn title=”Scarica le slide” style=”outline” color=”danger” size=”lg” align=”center” link=”url:https%3A%2F%2Fwww.gssistemi.it%2Fwp-content%2Fuploads%2F2023%2F07%2FWEBINAR-FIDELIZZARE-I-PROPRI-CLIENTI.pdf|target:_blank”][/vc_column_inner][vc_column_inner width=”1/2″][vc_btn title=”Guarda la registrazione ” style=”outline” color=”danger” size=”lg” align=”center” link=”url:https%3A%2F%2Fyoutu.be%2FGIEm34tyrj8|target:_blank”][/vc_column_inner][/vc_row_inner][/vc_column][/vc_row]
URL:https://www.gssistemi.it/event/fidelizzare-i-propri-clienti-con-servizi-innovativi/
LOCATION:Webinar Online
CATEGORIES:PROFIS,SPORTELLO.cloud,STUDI PROFESSIONALI
ATTACH;FMTTYPE=image/png:https://www.gssistemi.it/wp-content/uploads/2023/06/fidelizzare-i-propri-clienti-con-servizi-innovativi-sportello-cloud.png
ORGANIZER;CN="GS%20Sistemi":MAILTO:marketing@sistemigs.com
END:VEVENT
END:VCALENDAR