BEGIN:VCALENDAR
VERSION:2.0
PRODID:-//GS Sistemi - ECPv5.13.0//NONSGML v1.0//EN
CALSCALE:GREGORIAN
METHOD:PUBLISH
X-WR-CALNAME:GS Sistemi
X-ORIGINAL-URL:https://www.gssistemi.it
X-WR-CALDESC:Events for GS Sistemi
REFRESH-INTERVAL;VALUE=DURATION:PT1H
X-Robots-Tag:noindex
X-PUBLISHED-TTL:PT1H
BEGIN:VTIMEZONE
TZID:Europe/Rome
BEGIN:DAYLIGHT
TZOFFSETFROM:+0100
TZOFFSETTO:+0200
TZNAME:CEST
DTSTART:20220327T010000
END:DAYLIGHT
BEGIN:STANDARD
TZOFFSETFROM:+0200
TZOFFSETTO:+0100
TZNAME:CET
DTSTART:20221030T010000
END:STANDARD
END:VTIMEZONE
BEGIN:VEVENT
DTSTART;TZID=Europe/Rome:20221019T113000
DTEND;TZID=Europe/Rome:20221019T123000
DTSTAMP:20260422T042801
CREATED:20220929T105158Z
LAST-MODIFIED:20221213T121746Z
UID:3661-1666179000-1666182600@www.gssistemi.it
SUMMARY:Sportello documenti condivisi
DESCRIPTION:[vc_row][vc_column][vc_column_text]In questo appuntamento\, il 3° del ciclo di webinar dedicato a Sportello\, abbiamo visto le funzionalità di Sportello documenti condivisi per la condivisione automatica dei documenti provenienti da Profis e di qualsiasi documento da e verso i propri clienti. \nLa condivisione è facile\, sicura e può avvenire anche da mobile.[/vc_column_text][vc_row_inner][vc_column_inner width=”1/2″][vc_btn title=”Rivedi la registrazione” style=”outline” color=”danger” align=”center” link=”url:https%3A%2F%2Fwww.youtube.com%2Fwatch%3Fv%3DDG1QjGh__dc%26feature%3Dyoutu.be|target:_blank”][/vc_column_inner][vc_column_inner width=”1/2″][vc_btn title=”Scarica le slide” style=”outline” color=”danger” align=”center” link=”url:https%3A%2F%2Fwww.gssistemi.it%2Fwp-content%2Fuploads%2F2022%2F10%2FSPORTELLO-DOC-CONDIVISI.pdf|target:_blank”][/vc_column_inner][/vc_row_inner][/vc_column][/vc_row]
URL:https://www.gssistemi.it/event/sportello-documenti-condivisi/
LOCATION:Webinar Online
CATEGORIES:PROFIS,SPORTELLO.cloud,STUDI PROFESSIONALI
ATTACH;FMTTYPE=image/png:https://www.gssistemi.it/wp-content/uploads/2022/09/webinar-sportello-documenti-condivisi.png
ORGANIZER;CN="GS%20Sistemi":MAILTO:marketing@sistemigs.com
END:VEVENT
END:VCALENDAR