BEGIN:VCALENDAR
VERSION:2.0
PRODID:-//GS Sistemi - ECPv5.13.0//NONSGML v1.0//EN
CALSCALE:GREGORIAN
METHOD:PUBLISH
X-WR-CALNAME:GS Sistemi
X-ORIGINAL-URL:https://www.gssistemi.it
X-WR-CALDESC:Events for GS Sistemi
REFRESH-INTERVAL;VALUE=DURATION:PT1H
X-Robots-Tag:noindex
X-PUBLISHED-TTL:PT1H
BEGIN:VTIMEZONE
TZID:Europe/Rome
BEGIN:DAYLIGHT
TZOFFSETFROM:+0100
TZOFFSETTO:+0200
TZNAME:CEST
DTSTART:20220327T010000
END:DAYLIGHT
BEGIN:STANDARD
TZOFFSETFROM:+0200
TZOFFSETTO:+0100
TZNAME:CET
DTSTART:20221030T010000
END:STANDARD
END:VTIMEZONE
BEGIN:VEVENT
DTSTART;TZID=Europe/Rome:20220927T103000
DTEND;TZID=Europe/Rome:20220927T123000
DTSTAMP:20260422T054444
CREATED:20220628T152202Z
LAST-MODIFIED:20221213T121756Z
UID:2916-1664274600-1664281800@www.gssistemi.it
SUMMARY:La conservazione digitale delle fatture e dei registri e nuovi servizi digitali da offrire ai clienti
DESCRIPTION:[vc_row][vc_column][vc_column_text]Durante l’incontro è stata presentata una panoramica degli adempimenti procedurali legati alla conservazione digitale delle fatture elettroniche e dei registri obbligatori o altra documentazione.\nInoltre\, sono state illustrate nuove opportunità in termini di servizi digitali da proporre ai clienti di Studi e\, grazie all’ausilio del gestionale Profis\, forniti esempi pratici. \nIn collaborazione con l’ODCEC di Siena.[/vc_column_text][vc_row_inner][vc_column_inner width=”1/2″][vc_btn title=”Rivedi la registrazione” style=”outline-custom” outline_custom_color=”#ff675b” outline_custom_hover_background=”#ff675b” outline_custom_hover_text=”#ffffff” align=”center” link=”url:https%3A%2F%2Fwww.youtube.com%2Fwatch%3Fv%3DFqmXP-ATAE8|target:_blank”][/vc_column_inner][vc_column_inner width=”1/2″][vc_btn title=”Scarica le slide” style=”outline-custom” outline_custom_color=”#ff675b” outline_custom_hover_background=”#ff675b” outline_custom_hover_text=”#ffffff” align=”center” link=”url:https%3A%2F%2Fwww.gssistemi.it%2Fwp-content%2Fuploads%2F2022%2F09%2FSPORTELLO-CONSERVAZIONE-E-DIGITALI_ODCEC.pdf|target:_blank”][/vc_column_inner][/vc_row_inner][/vc_column][/vc_row]
URL:https://www.gssistemi.it/event/la-conservazione-digitale-delle-fatture-e-dei-registri-e-nuovi-servizi-digitali-da-offrire-ai-clienti/
LOCATION:Webinar Online
CATEGORIES:PROFIS,SPORTELLO.cloud,STUDI PROFESSIONALI
ATTACH;FMTTYPE=image/png:https://www.gssistemi.it/wp-content/uploads/2022/06/conservazione-digitale-e-nuovi-servizi.png
ORGANIZER;CN="GS%20Sistemi":MAILTO:marketing@sistemigs.com
END:VEVENT
END:VCALENDAR