BEGIN:VCALENDAR
VERSION:2.0
PRODID:-//GS Sistemi - ECPv5.13.0//NONSGML v1.0//EN
CALSCALE:GREGORIAN
METHOD:PUBLISH
X-WR-CALNAME:GS Sistemi
X-ORIGINAL-URL:https://www.gssistemi.it
X-WR-CALDESC:Events for GS Sistemi
REFRESH-INTERVAL;VALUE=DURATION:PT1H
X-Robots-Tag:noindex
X-PUBLISHED-TTL:PT1H
BEGIN:VTIMEZONE
TZID:Europe/Rome
BEGIN:DAYLIGHT
TZOFFSETFROM:+0100
TZOFFSETTO:+0200
TZNAME:CEST
DTSTART:20220327T010000
END:DAYLIGHT
BEGIN:STANDARD
TZOFFSETFROM:+0200
TZOFFSETTO:+0100
TZNAME:CET
DTSTART:20221030T010000
END:STANDARD
END:VTIMEZONE
BEGIN:VEVENT
DTSTART;VALUE=DATE:20220705
DTEND;VALUE=DATE:20220706
DTSTAMP:20260424T113424
CREATED:20220630T135928Z
LAST-MODIFIED:20221213T121804Z
UID:3062-1656979200-1657065599@www.gssistemi.it
SUMMARY:Enti del terzo settore non commerciali
DESCRIPTION:[vc_row][vc_column][vc_column_text] \nDurante l’incontro è stata presentata una panoramica dei nuovi adempimenti per gli Enti del Terzo Settore non commerciali.\nAbbiamo parlato delle nuove regole per la tenuta della contabilità e le peculiarità del Bilancio e\, con l’ausilio di PROFIS\, forniti esempi pratici. \nEvento in collaborazione con l’ODCEC di Siena. \n[/vc_column_text][vc_row_inner][vc_column_inner width=”1/2″][vc_btn title=”Rivedi la registrazione” style=”outline-custom” outline_custom_color=”#ff675b” outline_custom_hover_background=”#ff675b” outline_custom_hover_text=”#ffffff” align=”center” link=”url:https%3A%2F%2Fwww.youtube.com%2Fwatch%3Fv%3DlvdGDhuW_u4|target:_blank”][/vc_column_inner][vc_column_inner width=”1/2″][vc_btn title=”Scarica le slide” style=”outline-custom” outline_custom_color=”#ff675b” outline_custom_hover_background=”#ff675b” outline_custom_hover_text=”#ffffff” align=”center” link=”url:https%3A%2F%2Fwww.gssistemi.it%2Fwp-content%2Fuploads%2F2022%2F07%2Fslide_enti-Terzo-Settore.pdf|target:_blank”][/vc_column_inner][/vc_row_inner][/vc_column][/vc_row]
URL:https://www.gssistemi.it/event/enti-del-terzo-settore-non-commerciali/
LOCATION:Webinar Online
CATEGORIES:PROFIS,STUDI PROFESSIONALI
ATTACH;FMTTYPE=image/png:https://www.gssistemi.it/wp-content/uploads/2022/06/ets-non-commerciali.png
ORGANIZER;CN="GS%20Sistemi":MAILTO:marketing@sistemigs.com
END:VEVENT
END:VCALENDAR