BEGIN:VCALENDAR
VERSION:2.0
PRODID:-//GS Sistemi - ECPv5.13.0//NONSGML v1.0//EN
CALSCALE:GREGORIAN
METHOD:PUBLISH
X-WR-CALNAME:GS Sistemi
X-ORIGINAL-URL:https://www.gssistemi.it
X-WR-CALDESC:Events for GS Sistemi
REFRESH-INTERVAL;VALUE=DURATION:PT1H
X-Robots-Tag:noindex
X-PUBLISHED-TTL:PT1H
BEGIN:VTIMEZONE
TZID:Europe/Rome
BEGIN:DAYLIGHT
TZOFFSETFROM:+0100
TZOFFSETTO:+0200
TZNAME:CEST
DTSTART:20220327T010000
END:DAYLIGHT
BEGIN:STANDARD
TZOFFSETFROM:+0200
TZOFFSETTO:+0100
TZNAME:CET
DTSTART:20221030T010000
END:STANDARD
END:VTIMEZONE
BEGIN:VEVENT
DTSTART;VALUE=DATE:20220203
DTEND;VALUE=DATE:20220204
DTSTAMP:20260424T191115
CREATED:20220630T132629Z
LAST-MODIFIED:20221213T121833Z
UID:3048-1643846400-1643932799@www.gssistemi.it
SUMMARY:Le principali novità della legge di bilancio 2022
DESCRIPTION:[vc_row][vc_column][vc_column_text] \nIn questo webinar vediamo insieme delle principali novità introdotte dalla Legge di Bilancio 2022: \n\nLe principali novità della Finanziaria 2022\nGli adempimenti di Studio correlati alle novità\nEsempi di gestione degli adempimenti utilizzando il software PROFIS di Sistemi SpA\n\n[/vc_column_text][vc_row_inner][vc_column_inner width=”1/2″][vc_btn title=”Rivedi la registrazione” style=”outline” color=”danger” align=”center” link=”url:https%3A%2F%2Fwww.youtube.com%2Fwatch%3Fv%3DGCmW0bWQ3Vk|target:_blank”][/vc_column_inner][vc_column_inner width=”1/2″][vc_btn title=”Scarica le slide” style=”outline” color=”danger” align=”center” link=”url:https%3A%2F%2Fwww.gssistemi.it%2Fwp-content%2Fuploads%2F2022%2F07%2F220302-Webinar-Finanziaria.pdf|target:_blank”][/vc_column_inner][/vc_row_inner][/vc_column][/vc_row]
URL:https://www.gssistemi.it/event/le-principali-novita-della-legge-di-bilancio-2022/
LOCATION:Webinar Online
CATEGORIES:PROFIS,STUDI PROFESSIONALI
ATTACH;FMTTYPE=image/png:https://www.gssistemi.it/wp-content/uploads/2022/06/Finanziaria-2022.png
ORGANIZER;CN="GS%20Sistemi":MAILTO:marketing@sistemigs.com
END:VEVENT
END:VCALENDAR