BEGIN:VCALENDAR
VERSION:2.0
PRODID:-//GS Sistemi - ECPv5.13.0//NONSGML v1.0//EN
CALSCALE:GREGORIAN
METHOD:PUBLISH
X-WR-CALNAME:GS Sistemi
X-ORIGINAL-URL:https://www.gssistemi.it
X-WR-CALDESC:Events for GS Sistemi
REFRESH-INTERVAL;VALUE=DURATION:PT1H
X-Robots-Tag:noindex
X-PUBLISHED-TTL:PT1H
BEGIN:VTIMEZONE
TZID:Europe/Rome
BEGIN:DAYLIGHT
TZOFFSETFROM:+0100
TZOFFSETTO:+0200
TZNAME:CEST
DTSTART:20210328T010000
END:DAYLIGHT
BEGIN:STANDARD
TZOFFSETFROM:+0200
TZOFFSETTO:+0100
TZNAME:CET
DTSTART:20211031T010000
END:STANDARD
END:VTIMEZONE
BEGIN:VEVENT
DTSTART;VALUE=DATE:20210720
DTEND;VALUE=DATE:20210721
DTSTAMP:20260425T061342
CREATED:20220630T110005Z
LAST-MODIFIED:20221213T121958Z
UID:3032-1626739200-1626825599@www.gssistemi.it
SUMMARY:FATTUTTO: novità e rilasci
DESCRIPTION:[vc_row][vc_column][vc_column_text] \nUn webinar riservato ai commercialisti dove parliamo di Fattutto\, la soluzione di fatturazione elettronica\, e delle ultime novità in fase di rilascio.\nParliamo di: \n\nFatturazione elettronica e documenti commerciali\nContabilizzazione ciclo passivo\nVendita tramite barcode\nListini e politiche commerciali\nIntegrazione con Credit Safe\n\n[/vc_column_text][vc_row_inner][vc_column_inner width=”1/2″][vc_btn title=”Rivedi la registrazione” style=”outline” color=”danger” align=”center” link=”url:https%3A%2F%2Fwww.youtube.com%2Fwatch%3Fv%3Dmnpi8kahd58|target:_blank”][/vc_column_inner][vc_column_inner width=”1/2″][vc_btn title=”Scarica le slide” style=”outline” color=”danger” align=”center” link=”url:https%3A%2F%2Fwww.gssistemi.it%2Fwp-content%2Fuploads%2F2022%2F07%2FSlide_Webinar-FATTUTTO_GS.pdf|target:_blank”][/vc_column_inner][/vc_row_inner][/vc_column][/vc_row]
URL:https://www.gssistemi.it/event/fattutto-novita-e-rilasci/
LOCATION:Webinar Online
CATEGORIES:IMPRESE,STUDI PROFESSIONALI
ATTACH;FMTTYPE=image/png:https://www.gssistemi.it/wp-content/uploads/2022/06/fattutto.png
ORGANIZER;CN="GS%20Sistemi":MAILTO:marketing@sistemigs.com
END:VEVENT
END:VCALENDAR