BEGIN:VCALENDAR
VERSION:2.0
PRODID:-//GS Sistemi - ECPv5.13.0//NONSGML v1.0//EN
CALSCALE:GREGORIAN
METHOD:PUBLISH
X-WR-CALNAME:GS Sistemi
X-ORIGINAL-URL:https://www.gssistemi.it
X-WR-CALDESC:Events for GS Sistemi
REFRESH-INTERVAL;VALUE=DURATION:PT1H
X-Robots-Tag:noindex
X-PUBLISHED-TTL:PT1H
BEGIN:VTIMEZONE
TZID:Europe/Rome
BEGIN:DAYLIGHT
TZOFFSETFROM:+0100
TZOFFSETTO:+0200
TZNAME:CEST
DTSTART:20200329T010000
END:DAYLIGHT
BEGIN:STANDARD
TZOFFSETFROM:+0200
TZOFFSETTO:+0100
TZNAME:CET
DTSTART:20201025T010000
END:STANDARD
END:VTIMEZONE
BEGIN:VEVENT
DTSTART;VALUE=DATE:20201006
DTEND;VALUE=DATE:20201007
DTSTAMP:20260425T200937
CREATED:20220629T154220Z
LAST-MODIFIED:20221213T122037Z
UID:2986-1601942400-1602028799@www.gssistemi.it
SUMMARY:La gestione delle dichiarazioni fiscali e degli immobili
DESCRIPTION:[vc_row][vc_column][vc_column_text]Vuoi elaborare le dichiarazioni fiscali e gli adempimenti inerenti agli immobili con semplicità e in piena sicurezza?\nIn questo webinar operativo vediamo come predisporre e inviare le dichiarazioni con Profis e come gestire le scadenze fiscali degli immobili.   \n\nGestione delle dichiarazioni fiscali \nla derivazione da anno precedente\, la compilazione e l’invio delle dichiarazioni dei redditi\, casistiche particolari di correttiva e rettificativa\nGestione immobili\ncome aggiornare le tabelle per il calcolo imu/tasi e come compilare i dati nella gestione degli immobili\n\n[/vc_column_text][vc_row_inner][vc_column_inner width=”1/2″][vc_btn title=”Rivedi la registrazione” style=”outline” color=”danger” align=”center” link=”url:https%3A%2F%2Fwww.youtube.com%2Fwatch%3Fv%3D_59qnT95hUg|target:_blank”][/vc_column_inner][vc_column_inner width=”1/2″][vc_btn title=”Scarica le slide” style=”outline” color=”danger” align=”center” link=”url:https%3A%2F%2Fwww.gssistemi.it%2Fwp-content%2Fuploads%2F2022%2F07%2FLa-gestione-delle-dichiarazioni-fiscali-e-degli-immobili.pdf|target:_blank”][/vc_column_inner][/vc_row_inner][/vc_column][/vc_row]
URL:https://www.gssistemi.it/event/la-gestione-delle-dichiarazioni-fiscali-e-degli-immobili/
LOCATION:Webinar Online
CATEGORIES:PROFIS,STUDI PROFESSIONALI
ATTACH;FMTTYPE=image/png:https://www.gssistemi.it/wp-content/uploads/2022/06/6.png
ORGANIZER;CN="GS%20Sistemi":MAILTO:marketing@sistemigs.com
END:VEVENT
BEGIN:VEVENT
DTSTART;VALUE=DATE:20201028
DTEND;VALUE=DATE:20201029
DTSTAMP:20260425T200937
CREATED:20220629T154733Z
LAST-MODIFIED:20221213T122032Z
UID:2993-1603843200-1603929599@www.gssistemi.it
SUMMARY:SPORTELLO.cloud: una panoramica completa
DESCRIPTION:[vc_row][vc_column][vc_column_text] \nSPORTELLO.CLOUD è la piattaforma web a disposizione dello Studio Professionale per collaborare attivamente con tutti i suoi clienti.\nDalla condivisione dei documenti alla conservazione digitale\, la piattaforma apre la strada a una serie di innovativi servizi digitali che lo Studio può offrire ai suoi clienti. \nIn questo webinar vediamo le principali funzionalità della piattaforma. \n[/vc_column_text][vc_row_inner][vc_column_inner width=”1/2″][vc_btn title=”Rivedi la registrazione” style=”outline” color=”danger” align=”center” link=”url:https%3A%2F%2Fwww.youtube.com%2Fwatch%3Fv%3DOZV3koRGsk0|target:_blank”][/vc_column_inner][vc_column_inner width=”1/2″][vc_btn title=”Scarica le slide” style=”outline” color=”danger” align=”center” link=”url:https%3A%2F%2Fwww.gssistemi.it%2Fwp-content%2Fuploads%2F2022%2F07%2FSPORTELLOcloud.pdf|target:_blank”][/vc_column_inner][/vc_row_inner][/vc_column][/vc_row]
URL:https://www.gssistemi.it/event/sportello-cloud-una-panoramica-completa/
LOCATION:Webinar Online
CATEGORIES:PROFIS,SPORTELLO.cloud,STUDI PROFESSIONALI
ATTACH;FMTTYPE=image/png:https://www.gssistemi.it/wp-content/uploads/2022/06/8.png
ORGANIZER;CN="GS%20Sistemi":MAILTO:marketing@sistemigs.com
END:VEVENT
END:VCALENDAR