BEGIN:VCALENDAR
VERSION:2.0
PRODID:-//GS Sistemi - ECPv5.13.0//NONSGML v1.0//EN
CALSCALE:GREGORIAN
METHOD:PUBLISH
X-WR-CALNAME:GS Sistemi
X-ORIGINAL-URL:https://www.gssistemi.it
X-WR-CALDESC:Events for GS Sistemi
REFRESH-INTERVAL;VALUE=DURATION:PT1H
X-Robots-Tag:noindex
X-PUBLISHED-TTL:PT1H
BEGIN:VTIMEZONE
TZID:Europe/Rome
BEGIN:DAYLIGHT
TZOFFSETFROM:+0100
TZOFFSETTO:+0200
TZNAME:CEST
DTSTART:20250330T010000
END:DAYLIGHT
BEGIN:STANDARD
TZOFFSETFROM:+0200
TZOFFSETTO:+0100
TZNAME:CET
DTSTART:20251026T010000
END:STANDARD
END:VTIMEZONE
BEGIN:VEVENT
DTSTART;TZID=Europe/Rome:20250406T160000
DTEND;TZID=Europe/Rome:20250409T193000
DTSTAMP:20260420T050013
CREATED:20250320T083740Z
LAST-MODIFIED:20250320T083740Z
UID:6078-1743955200-1744227000@www.gssistemi.it
SUMMARY:Vinitaly 2025
DESCRIPTION:[vc_row][vc_column]Ti aspettiamo al Vinitaly!\n  [vc_column_text] \n\n\n\n\n\n\nDal 6 al 9 aprile torna la più grande manifestazione dedicata al mondo dei vini e dei distillati: la 56° edizione del Vinitaly. \nSistemi SpA sarà presente\, per tutta la durata dell’evento\, con uno stand al Padiglione Piemonte Pad.10\, Stand H2\, per farti conoscere la soluzione software ERP completa e integrata\, ENOLOGIA\, per gestire tutte le attività amministrative\, produttive e distributive della tua cantina. \nNoi di GS Sistemi saremo presenti lunedì 7!\nCi farebbe piacere incontrarti di persona\, così da ascoltare le tue esigenze e scambiare opinioni. \nSe anche tu vuoi incontrarci\, faccelo sapere: \n\n\n\n\n\n\n[/vc_column_text][vc_row_inner css=”.vc_custom_1677066399557{padding-top: 20px !important;padding-bottom: 20px !important;}”][vc_column_inner][vc_btn title=”Contattaci” style=”custom” custom_background=”#dd1818″ custom_text=”#ffffff” size=”lg” align=”center” link=”url:mailto%3A%20commerciale%40sistemigs.com|target:_blank”][/vc_column_inner][/vc_row_inner][/vc_column][/vc_row]
URL:https://www.gssistemi.it/event/vinitaly-2025/
CATEGORIES:ENOLOGIA,GS Sistemi,IMPRESE
ATTACH;FMTTYPE=image/png:https://www.gssistemi.it/wp-content/uploads/2025/03/Vinitaly-2025.png
ORGANIZER;CN="GS%20Sistemi":MAILTO:marketing@sistemigs.com
END:VEVENT
END:VCALENDAR