BEGIN:VCALENDAR
VERSION:2.0
PRODID:-//GS Sistemi - ECPv5.13.0//NONSGML v1.0//EN
CALSCALE:GREGORIAN
METHOD:PUBLISH
X-WR-CALNAME:GS Sistemi
X-ORIGINAL-URL:https://www.gssistemi.it
X-WR-CALDESC:Events for GS Sistemi
REFRESH-INTERVAL;VALUE=DURATION:PT1H
X-Robots-Tag:noindex
X-PUBLISHED-TTL:PT1H
BEGIN:VTIMEZONE
TZID:Europe/Rome
BEGIN:DAYLIGHT
TZOFFSETFROM:+0100
TZOFFSETTO:+0200
TZNAME:CEST
DTSTART:20240331T010000
END:DAYLIGHT
BEGIN:STANDARD
TZOFFSETFROM:+0200
TZOFFSETTO:+0100
TZNAME:CET
DTSTART:20241027T010000
END:STANDARD
END:VTIMEZONE
BEGIN:VEVENT
DTSTART;TZID=Europe/Rome:20240508T160000
DTEND;TZID=Europe/Rome:20240508T183000
DTSTAMP:20260424T204213
CREATED:20240423T102232Z
LAST-MODIFIED:20241211T091642Z
UID:5476-1715184000-1715193000@www.gssistemi.it
SUMMARY:ETICHETTATURA VINICOLA: novità normative e impatto sui processi aziendali
DESCRIPTION:[vc_row][vc_column]Evento GS Sistemi in collaborazione con Assoenologi Toscana\n  [vc_column_text css=”.vc_custom_1715355886135{padding-bottom: 20px !important;}”] \n\n\n\n\n\n\nGS Sistemi\, partner Sistemi SpA\, organizza\, in collaborazione con Assoenologi Toscana\, l’evento in presenza dal titolo “ETICHETTATURA VINICOLA: novità normative e impatto sui processi aziendali “. \nL’evento vuole approfondire le novità normative entrate in vigore dall’8/12/2023\, con particolare attenzione alla loro applicazione pratica e all’impatto che queste novità assumeranno nei processi produttivi e distributivi delle aziende vitivinicole. \nL’evento si svolgerà   mercoledì 8 maggio presso l’Hotel Garden di Siena dalle 16.00 alle 18.30.\nLa partecipazione dà diritto a 4 crediti formativi per i soci Assoenologi – Iscrizione obbligatoria entro il 03 Maggio\nLeggi il programma  \nRelatori dell’incontro \n• Massimo Marietta – Responsabile Sviluppo ENOLOGIA Sistemi S.p.A.\n• Avv. Marco Giuri – Fondatore Studio Giuri Avvocati\n• Intervento del Dott. Berilli – Direttore ICQRF Toscana e Umbria\n• Benvenuto dal Dott. Ivangiorgio Tarzariol – Presidente Assoenologi Sezione Toscana \n\n\n\n\n\n\n[/vc_column_text][vc_empty_space height=”15px” el_id=”slide”][/vc_column][/vc_row][vc_row tm_bgimagefixed=”” css=”.vc_custom_1733908687733{border-radius: 3px !important;}”][vc_column css=”.vc_custom_1733908634717{padding-bottom: 80px !important;}”][vc_text_separator title=”Slide del convegno” i_icon_fontawesome=”fas fa-book-open” i_color=”juicy_pink” title_align=”separator_align_left” color=”blue” add_icon=”true”][vc_toggle title=”Clicca qui e scarica le slide del convegno” style=”round” color=”juicy_pink” css=”.vc_custom_1715355632442{background-position: center !important;background-repeat: no-repeat !important;background-size: cover !important;}”] \n\nDestinatario\nGS SISTEMI SRLSocietà*\nCognome*\nNome*\nTelefono*\nEmail*\n\nAcconsento al trattamento dei miei dati personali per finalità di marketing*.  Informativa Privacy Policy\n–Prego Selezionare–NoSì\n[/vc_toggle][/vc_column][/vc_row]
URL:https://www.gssistemi.it/event/etichettatura-vinicola-novita-normative-e-impatto-sui-processi-aziendali/
LOCATION:Siena\, 53100
CATEGORIES:ENOLOGIA,GS Sistemi,IMPRESE
ATTACH;FMTTYPE=image/jpeg:https://www.gssistemi.it/wp-content/uploads/2024/04/Evento-etichettatura-vinicola-Assoenologi-Toscana-GS-Sistemi.jpg
ORGANIZER;CN="GS%20Sistemi":MAILTO:marketing@sistemigs.com
END:VEVENT
END:VCALENDAR