BEGIN:VCALENDAR
VERSION:2.0
PRODID:-//GS Sistemi - ECPv5.13.0//NONSGML v1.0//EN
CALSCALE:GREGORIAN
METHOD:PUBLISH
X-WR-CALNAME:GS Sistemi
X-ORIGINAL-URL:https://www.gssistemi.it
X-WR-CALDESC:Events for GS Sistemi
REFRESH-INTERVAL;VALUE=DURATION:PT1H
X-Robots-Tag:noindex
X-PUBLISHED-TTL:PT1H
BEGIN:VTIMEZONE
TZID:Europe/Rome
BEGIN:DAYLIGHT
TZOFFSETFROM:+0100
TZOFFSETTO:+0200
TZNAME:CEST
DTSTART:20240331T010000
END:DAYLIGHT
BEGIN:STANDARD
TZOFFSETFROM:+0200
TZOFFSETTO:+0100
TZNAME:CET
DTSTART:20241027T010000
END:STANDARD
END:VTIMEZONE
BEGIN:VEVENT
DTSTART;TZID=Europe/Rome:20241203T153000
DTEND;TZID=Europe/Rome:20241203T180000
DTSTAMP:20260420T091723
CREATED:20241115T135143Z
LAST-MODIFIED:20241211T091734Z
UID:5849-1733239800-1733248800@www.gssistemi.it
SUMMARY:ETICHETTATURA VINICOLA: novità normative e impatto sui processi aziendali
DESCRIPTION:[vc_row][vc_column]Evento GS Sistemi in collaborazione con Assoenologi Toscana\n  [vc_column_text css=”.vc_custom_1731678029985{padding-bottom: 20px !important;}”] \n\n\n\n\n\n\nA quasi un anno dall’entrata in vigore delle regole sull’etichettatura vitivinicola\, GS Sistemi\, partner Sistemi SpA\, organizza\, l’evento in presenza dal titolo “ETICHETTATURA VINICOLA: novità normative e impatto sui processi aziendali “. \nL’evento vuole approfondire le novità normative entrate in vigore dall’8/12/2023\, con particolare attenzione alla loro applicazione pratica e all’impatto che queste novità assumeranno nei processi produttivi e distributivi delle aziende vitivinicole. \nL’evento si svolgerà   martedì 3 dicembre il Castello di Bonaria di Campiglia Marittima (LI) dalle 15.30 alle 18.00. \nEvento organizzato in collaborazione con Assoenologi Toscana\nSono previsti 2 crediti formativi per i soci Assoenologi \nIscrizione obbligatoria entro il 28 Novembre \nLeggi il programma  \nRelatori dell’incontro \n• Massimo Marietta – Responsabile Sviluppo ENOLOGIA Sistemi S.p.A.\n• Avv. Marco Giuri – Fondatore Studio Giuri Avvocati\n• Benvenuto di Enrico Nesi – Responsabile giovani enologi Assoenologi \n\n\n\n\n\n\n[/vc_column_text][/vc_column][/vc_row][vc_row tm_bgimagefixed=”” css=”.vc_custom_1733750745896{border-radius: 3px !important;}”][vc_column css=”.vc_custom_1733908821085{padding-bottom: 80px !important;}” el_id=”slide”][vc_text_separator title=”Slide del convegno” i_icon_fontawesome=”fas fa-book-open” i_color=”juicy_pink” title_align=”separator_align_left” color=”blue” add_icon=”true”][vc_toggle title=”Clicca qui e scarica le slide del convegno” style=”round” color=”juicy_pink” css=”.vc_custom_1733750932957{background-position: center !important;background-repeat: no-repeat !important;background-size: cover !important;}”] \n\nDestinatario\nGS SISTEMI SRL \nSocietà*\n \nCognome*\n \nNome*\n \nTelefono*\n \n \nEmail*\n \n\n \nAcconsento al trattamento dei miei dati personali per finalità di marketing*.  Informativa Privacy Policy\n–Prego Selezionare–NoSì\n \n\n \n[/vc_toggle][/vc_column][/vc_row]
URL:https://www.gssistemi.it/event/etichettatura-vinicola-novita-normative-e-impatto-sui-processi-aziendali-dicembre2024/
LOCATION:Castello Bonaria – Campiglia Marittima (LI)\, Via di Venturina 17\, Campiglia Marittima\, Italy
CATEGORIES:ENOLOGIA,GS Sistemi,IMPRESE
ATTACH;FMTTYPE=image/png:https://www.gssistemi.it/wp-content/uploads/2024/11/Evento-etichettatura-vinicola-GS-Sistemi-.png
ORGANIZER;CN="GS%20Sistemi":MAILTO:marketing@sistemigs.com
END:VEVENT
END:VCALENDAR