BEGIN:VCALENDAR
VERSION:2.0
PRODID:-//GS Sistemi - ECPv5.13.0//NONSGML v1.0//EN
CALSCALE:GREGORIAN
METHOD:PUBLISH
X-WR-CALNAME:GS Sistemi
X-ORIGINAL-URL:https://www.gssistemi.it
X-WR-CALDESC:Events for GS Sistemi
REFRESH-INTERVAL;VALUE=DURATION:PT1H
X-Robots-Tag:noindex
X-PUBLISHED-TTL:PT1H
BEGIN:VTIMEZONE
TZID:Europe/Rome
BEGIN:DAYLIGHT
TZOFFSETFROM:+0100
TZOFFSETTO:+0200
TZNAME:CEST
DTSTART:20230326T010000
END:DAYLIGHT
BEGIN:STANDARD
TZOFFSETFROM:+0200
TZOFFSETTO:+0100
TZNAME:CET
DTSTART:20231029T010000
END:STANDARD
END:VTIMEZONE
BEGIN:VEVENT
DTSTART;TZID=Europe/Rome:20231122T160000
DTEND;TZID=Europe/Rome:20231122T180000
DTSTAMP:20260425T033352
CREATED:20231109T101614Z
LAST-MODIFIED:20240304T151224Z
UID:5068-1700668800-1700676000@www.gssistemi.it
SUMMARY:Giro di vite - Crescita della cantina: dall'IA alla valorizzazione del territorio
DESCRIPTION:[vc_row][vc_column]CRESCITA DELLA CANTINA: DALL'IA ALLA VALORIZZAZIONE DEL TERRITORIO\nLeggi il programma\n  [vc_column_text] \n\n\n\n\n\n\nGiro di Vite è il format webinar che approfondisce tematiche di interesse per le aziende vitivinicole ed è realizzato insieme ai nostri colleghi partner Sistemi delle più importanti aree vitivinicole d’Italia \nIn questo appuntamento parleremo delle tecnologie per sostenere la crescita della cantina. Dall’intelligenza artificiale a supporto della sostenibilità aziendale alla gestione organizzata ed efficiente del magazzino.\nScopriremo anche quanto sia importante il racconto del territorio nel mondo del vino. \n\n\n\n\n\n\n[/vc_column_text][vc_row_inner css=”.vc_custom_1677066399557{padding-top: 20px !important;padding-bottom: 20px !important;}”][vc_column_inner][vc_btn title=”Iscriviti all’evento” style=”custom” custom_background=”#dd1818″ custom_text=”#ffffff” size=”lg” align=”center” link=”url:https%3A%2F%2Fforms.office.com%2FPages%2FResponsePage.aspx%3Fid%3Do1Lkp8GPm0SdIVJCPC9NfMklwAZLKolHkS1V715wPgZUQjk0NVZDR1pSRE1XNTNGV1dYWVdTMlJKOS4u|target:_blank”][/vc_column_inner][/vc_row_inner]Rivedi i precedenti appuntamenti di Giro di Vite:\n\n\nGiro di vite – La cantina di domani\, oggi!\nGiro di vite – Vino: prodotto locale\, mercato globale\nGiro di vite – Sostenibilità nel settore vitivinicolo: le dimensioni ambientale\, sociale ed economica\n\n  [/vc_column][/vc_row]
URL:https://www.gssistemi.it/event/giro-di-vite-crescita-della-cantina-dallia-alla-valorizzazione-del-territorio/
LOCATION:Webinar Online
CATEGORIES:ENOLOGIA,IMPRESE
ATTACH;FMTTYPE=image/jpeg:https://www.gssistemi.it/wp-content/uploads/2023/11/Giro-di-vite-crescita-cantina.jpg
ORGANIZER;CN="GS%20Sistemi":MAILTO:marketing@sistemigs.com
END:VEVENT
END:VCALENDAR