BEGIN:VCALENDAR
VERSION:2.0
PRODID:-//GS Sistemi - ECPv5.13.0//NONSGML v1.0//EN
CALSCALE:GREGORIAN
METHOD:PUBLISH
X-WR-CALNAME:GS Sistemi
X-ORIGINAL-URL:https://www.gssistemi.it
X-WR-CALDESC:Events for GS Sistemi
REFRESH-INTERVAL;VALUE=DURATION:PT1H
X-Robots-Tag:noindex
X-PUBLISHED-TTL:PT1H
BEGIN:VTIMEZONE
TZID:Europe/Rome
BEGIN:DAYLIGHT
TZOFFSETFROM:+0100
TZOFFSETTO:+0200
TZNAME:CEST
DTSTART:20230326T010000
END:DAYLIGHT
BEGIN:STANDARD
TZOFFSETFROM:+0200
TZOFFSETTO:+0100
TZNAME:CET
DTSTART:20231029T010000
END:STANDARD
END:VTIMEZONE
BEGIN:VEVENT
DTSTART;TZID=Europe/Rome:20230215T160000
DTEND;TZID=Europe/Rome:20230215T180000
DTSTAMP:20260425T170904
CREATED:20230201T094837Z
LAST-MODIFIED:20230222T114721Z
UID:4220-1676476800-1676484000@www.gssistemi.it
SUMMARY:Giro di vite - Sostenibilità nel settore vitivinicolo: le dimensioni ambientale\, sociale ed economica
DESCRIPTION:[vc_row][vc_column]SOSTENIBILITÀ NEL SETTORE VITIVINICOLO: LE DIMENSIONI AMBIENTALE SOCIALE ED ECONOMICA\nLeggi il programma\n  [vc_column_text] \n\n\n\n\n\n\nGiro di Vite è il format webinar che approfondisce tematiche di interesse per le aziende vitivinicole ed è realizzato insieme ai nostri colleghi partner Sistemi delle più importanti aree vitivinicole d’Italia \nIn questo 3 appuntamento abbiamo parlato di Sostenibilità\, guardando al presente e al futuro considerando l’impatto economico\, sociale e ambientale.\nInsieme ad ospiti ed esperti abbiamo visto in che modo la sostenibilità può trasformarsi in un vero vantaggio competitivo sul mercato e abbiamo conosciuto alcune realtà del settore vitivinicolo che credono nella sostenibilità come fattore di crescita. \n\n\n\n\n\n\n[/vc_column_text][vc_row_inner css=”.vc_custom_1677066399557{padding-top: 20px !important;padding-bottom: 20px !important;}”][vc_column_inner width=”1/2″][vc_btn title=”Scarica le slide” style=”custom” custom_background=”#dd1818″ custom_text=”#ffffff” size=”lg” align=”center” link=”url:https%3A%2F%2Fwww.gssistemi.it%2Fwp-content%2Fuploads%2F2023%2F02%2FSlide-GIRO-DI-VITE-15.02.23.pdf|target:_blank”][/vc_column_inner][vc_column_inner width=”1/2″][vc_btn title=”Rivedi la registrazione” style=”custom” custom_background=”#dd1818″ custom_text=”#ffffff” size=”lg” align=”center” link=”url:https%3A%2F%2Fvimeo.com%2F794053668%2Fbffa003488|target:_blank”][/vc_column_inner][/vc_row_inner]Rivedi i precedenti appuntamenti di Giro di Vite:\n\n\nGiro di vite – La cantina di domani\, oggi!\nGiro di vite – Vino: prodotto locale\, mercato globale\n\n  [/vc_column][/vc_row]
URL:https://www.gssistemi.it/event/giro-di-vite-sostenibilita-nel-settore-vitivinicolo-le-dimensioni-ambientale-sociale-ed-economica/
LOCATION:Webinar Online
CATEGORIES:ENOLOGIA,IMPRESE
ATTACH;FMTTYPE=image/png:https://www.gssistemi.it/wp-content/uploads/2023/02/Giro-di-vite_Sostenibilita-nel-settore-vitivinicolo_GS.png
ORGANIZER;CN="GS%20Sistemi":MAILTO:marketing@sistemigs.com
END:VEVENT
END:VCALENDAR